BEGIN_USGS_DOQ_HEADER *
QUADRANGLE_NAME "POINT LOMA OE W" 3.75 or 7.5-min. name*
QUADRANT SE quadrant indicator if cell size = 3.75-minutes*
WEST_LONGITUDE -117 18 45.000 signed deg min sec SDDD MM SS.SSS*
EAST_LONGITUDE -117 15 0.000 signed deg min sec SDDD MM SS.SSS*
NORTH_LATITUDE 32 41 15.000 signed deg min sec SDDD MM SS.SSS*
SOUTH_LATITUDE 32 37 30.000 signed deg min sec SDDD MM SS.SSS*
PRODUCTION_DATE 2003 10 24 yyyy mm dd*
RASTER_ORDER LEFT_RIGHT/TOP_BOTTOM video display order*
BAND_ORGANIZATION BIP single file or BSQ, or BIL or BIP*
BAND_CONTENT RED black&white or red green blue*
BAND_CONTENT GREEN black&white or red green blue*
BAND_CONTENT BLUE black&white or red green blue*
BITS_PER_PIXEL 8 radiometric resolution*
SAMPLES_AND_LINES 6556 7553 number of columns and rows*
HORIZONTAL_DATUM NAD83 primary horizontal datum*
HORIZONTAL_COORDINATE_SYSTEM UTM *
COORDINATE_ZONE 11 coordinate system zone number*
HORIZONTAL_UNITS METERS coordinate system units*
HORIZONTAL_RESOLUTION 1.00 pixel horiz. ground sample distance*
SECONDARY_HORIZONTAL_DATUM NAD27 secondary horizontal datum*
XY_ORIGIN 470310.000 3616994.000 coord. of upper left pixel pri. datum*
SECONDARY_XY_ORIGIN 470391.000 3616799.000 coord upper left pixel sec datum*
NATION US nation code*
STATE CA state fip code*
NW_QUAD_CORNER_XY 470705.015 3616687.176 XY coords. of pri. NW quad corner*
NE_QUAD_CORNER_XY 476564.030 3616671.644 XY coords. of pri. NE quad corner*
SE_QUAD_CORNER_XY 476547.717 3609743.241 XY coords. of pri. SE quad corner*
SW_QUAD_CORNER_XY 470684.624 3609758.758 XY coords. of pri. SW quad corner*
SECONDARY_NW_QUAD_XY 470704.379 3616497.116 XY coords. - sec. NW quad cor.*
SECONDARY_NE_QUAD_XY 476563.520 3616481.584 XY coords. - sec. NE quad cor.*
SECONDARY_SE_QUAD_XY 476547.208 3609553.398 XY coords. - sec. SE quad cor.*
SECONDARY_SW_QUAD_XY 470683.988 3609568.915 XY coords. - sec. SW quad cor.*
RMSE_XY 0.80 doq horiz. accuracy*
IMAGE_SOURCE "COLOR INFRA-RED FILM" b&w, cir, natural color, other*
SOURCE_IMAGE_ID "NAPP 12474 103" source image id*
SOURCE_IMAGE_DATE 2002 5 22 source image date as yyyy mm dd*
SOURCE_DEM_DATE 2003 10 24 source dem date yyyy mm dd*
AGENCY "WESTERN MAPPING CENTER (WMC)" oversight agency*
PRODUCER "WESTERN MAPPING CENTER (WMC)" *
PRODUCTION_SYSTEM "DV2.6.5 3/02 OV2.7 3/02" production system*
STANDARD_VERSION 1996 12 version of DOQ standard*
METADATA_DATE 2003 10 24 date created or changed, yyyy mm dd*
DATA_FILE_SIZE 148572072 data set size in bytes*
BYTE_COUNT 19668 header byte count* * * * * * * * * * * * * * * * * * * * * * * * * * * * * * * * * * * * * * * * * * * * * * * * * * * * * * * * * * * * * * * * * * * * * * * * * * * * * * * * * * * * * * * * * * * * * * * * * * * * * * * * * * * * * * * * * * * * * * * * * * * * * * * * * * * * * * * * * * * * * * * * * * * * * * * * * * * * * * * * * * * * * * * * * * * * * * * * * * * * * * * * * * * * * * * * * * * * * * * * *
END_USGS_HEADER *
