BEGIN_USGS_DOQ_HEADER *
QUADRANGLE_NAME "LA JOLLA" 3.45 or 7.5-min. name*
QUADRANT NW quadrant indicator if cell size = 3.75-minutes*
WEST_LONGITUDE -117 15 0.000 signed deg min sec SDDD MM SS.SSS*
EAST_LONGITUDE -117 11 15.000 signed deg min sec SDDD MM SS.SSS*
NORTH_LATITUDE 32 52 30.000 signed deg min sec SDDD MM SS.SSS*
SOUTH_LATITUDE 32 48 45.000 signed deg min sec SDDD MM SS.SSS*
PRODUCTION_DATE 1998 11 6 yyyy mm dd*
RASTER_ORDER LEFT_RIGHT/TOP_BOTTOM video display order*
BAND_ORGANIZATION BIP single file or BSQ, or BIL or BIP*
BAND_CONTENT RED black&white or red green blue*
BAND_CONTENT GREEN black&white or red green blue*
BAND_CONTENT BLUE black&white or red green blue*
BITS_PER_PIXEL 8 radiometric resolution*
SAMPLES_AND_LINES 6548 7549 number of columns and rows*
HORIZONTAL_DATUM NAD83 primary horizontal datum*
HORIZONTAL_COORDINATE_SYSTEM UTM *
COORDINATE_ZONE 11 coordinate system zone number*
HORIZONTAL_UNITS METERS coordinate system units*
HORIZONTAL_RESOLUTION 1.00 pixel horiz. ground sample distance*
SECONDARY_HORIZONTAL_DATUM NAD27 secondary horizontal datum*
XY_ORIGIN 476214.000 3637764.000 coord. of upper left pixel pri. datum*
SECONDARY_XY_ORIGIN 476294.863 3637567.907 coord upper left pixel sec datum*
NATION US nation code*
STATE CA state fip code*
NW_QUAD_CORNER_XY 476613.135 3637457.266 XY coords. of pri. NW quad corner*
NE_QUAD_CORNER_XY 482459.861 3637445.149 XY coords. of pri. NE quad corner*
SE_QUAD_CORNER_XY 482447.564 3630516.552 XY coords. of pri. SE quad corner*
SW_QUAD_CORNER_XY 476596.739 3630528.656 XY coords. of pri. SW quad corner*
SECONDARY_NW_QUAD_XY 476612.624 3637266.558 XY coords. - sec. NW quad cor.*
SECONDARY_NE_QUAD_XY 482459.478 3637254.441 XY coords. - sec. NE quad cor.*
SECONDARY_SE_QUAD_XY 482447.181 3630326.058 XY coords. - sec. SE quad cor.*
SECONDARY_SW_QUAD_XY 476596.228 3630338.163 XY coords. - sec. SW quad cor.*
RMSE_XY 1.30 doq horiz. accuracy*
IMAGE_SOURCE "COLOR INFRA-RED FILM" b&w, cir, natural color, other*
SOURCE_IMAGE_ID "NAPP 0327 067" source image id*
SOURCE_IMAGE_DATE 1997 10 16 source image date as yyyy mm dd*
SOURCE_DEM_DATE 1966 0 0 source dem date yyyy mm dd*
AGENCY "WESTERN MAPPING CENTER (WMC)" oversight agency*
PRODUCER "ROCKY MOUNTAIN MAPPING CENTER (RMMC)" *
PRODUCTION_SYSTEM "DV2.6.3 10/9OV2.4 5/95" production system*
STANDARD_VERSION 1996 12 version of DOQ standard*
METADATA_DATE 1998 11 9 date created or changed, yyyy mm dd*
DATA_FILE_SIZE 148312200 data set size in bytes*
BYTE_COUNT 19644 header byte count* * * * * * * * * * * * * * * * * * * * * * * * * * * * * * * * * * * * * * * * * * * * * * * * * * * * * * * * * * * * * * * * * * * * * * * * * * * * * * * * * * * * * * * * * * * * * * * * * * * * * * * * * * * * * * * * * * * * * * * * * * * * * * * * * * * * * * * * * * * * * * * * * * * * * * * * * * * * * * * * * * * * * * * * * * * * * * * * * * * * * * * * * * * * * * * * * * * * * * * * *
END_USGS_HEADER *
