BEGIN_USGS_DOQ_HEADER *
QUADRANGLE_NAME "POWAY" 3.45 or 7.5-min. name*
QUADRANT SE quadrant indicator if cell size = 3.75-minutes*
WEST_LONGITUDE -117 3 45.000 signed deg min sec SDDD MM SS.SSS*
EAST_LONGITUDE -117 0 0.000 signed deg min sec SDDD MM SS.SSS*
NORTH_LATITUDE 32 56 15.000 signed deg min sec SDDD MM SS.SSS*
SOUTH_LATITUDE 32 52 30.000 signed deg min sec SDDD MM SS.SSS*
PRODUCTION_DATE 1998 11 6 yyyy mm dd*
RASTER_ORDER LEFT_RIGHT/TOP_BOTTOM video display order*
BAND_ORGANIZATION BIP single file or BSQ, or BIL or BIP*
BAND_CONTENT RED black&white or red green blue*
BAND_CONTENT GREEN black&white or red green blue*
BAND_CONTENT BLUE black&white or red green blue*
BITS_PER_PIXEL 8 radiometric resolution*
SAMPLES_AND_LINES 6528 7538 number of columns and rows*
HORIZONTAL_DATUM NAD83 primary horizontal datum*
HORIZONTAL_COORDINATE_SYSTEM UTM *
COORDINATE_ZONE 11 coordinate system zone number*
HORIZONTAL_UNITS METERS coordinate system units*
HORIZONTAL_RESOLUTION 1.00 pixel horiz. ground sample distance*
SECONDARY_HORIZONTAL_DATUM NAD27 secondary horizontal datum*
XY_ORIGIN 493771.000 3644666.000 coord. of upper left pixel pri. datum*
SECONDARY_XY_ORIGIN 493851.731 3644469.913 coord upper left pixel sec datum*
NATION US nation code*
STATE CA state fip code*
NW_QUAD_CORNER_XY 494157.397 3644359.955 XY coords. of pri. NW quad corner*
NE_QUAD_CORNER_XY 500000.000 3644358.223 XY coords. of pri. NE quad corner*
SE_QUAD_CORNER_XY 500000.000 3637429.571 XY coords. of pri. SE quad corner*
SW_QUAD_CORNER_XY 494153.291 3637431.302 XY coords. of pri. SW quad corner*
SECONDARY_NW_QUAD_XY 494157.269 3644169.032 XY coords. - sec. NW quad cor.*
SECONDARY_NE_QUAD_XY 500000.000 3644167.299 XY coords. - sec. NE quad cor.*
SECONDARY_SE_QUAD_XY 500000.000 3637238.862 XY coords. - sec. SE quad cor.*
SECONDARY_SW_QUAD_XY 494153.163 3637240.593 XY coords. - sec. SW quad cor.*
RMSE_XY 2.90 doq horiz. accuracy*
IMAGE_SOURCE "COLOR INFRA-RED FILM" b&w, cir, natural color, other*
SOURCE_IMAGE_ID "NAPP 0188 070" source image id*
SOURCE_IMAGE_DATE 1996 9 30 source image date as yyyy mm dd*
SOURCE_DEM_DATE 1966 0 0 source dem date yyyy mm dd*
AGENCY "WESTERN MAPPING CENTER (WMC)" oversight agency*
PRODUCER "ROCKY MOUNTAIN MAPPING CENTER (RMMC)" *
PRODUCTION_SYSTEM "DV2.6.3 10/9OV2.4 5/95" production system*
STANDARD_VERSION 1996 12 version of DOQ standard*
METADATA_DATE 1998 11 9 date created or changed, yyyy mm dd*
DATA_FILE_SIZE 147643776 data set size in bytes*
BYTE_COUNT 19584 header byte count* * * * * * * * * * * * * * * * * * * * * * * * * * * * * * * * * * * * * * * * * * * * * * * * * * * * * * * * * * * * * * * * * * * * * * * * * * * * * * * * * * * * * * * * * * * * * * * * * * * * * * * * * * * * * * * * * * * * * * * * * * * * * * * * * * * * * * * * * * * * * * * * * * * * * * * * * * * * * * * * * * * * * * * * * * * * * * * * * * * * * * * * * * * * * * * * * * * * * * * *
END_USGS_HEADER *
