BEGIN_USGS_DOQ_HEADER *
QUADRANGLE_NAME "SAN CLEMENTE ISLAND CENTRAL" 3.45 or 7.5-min. name*
QUADRANT SE quadrant indicator if cell size = 3.75-minutes*
WEST_LONGITUDE -118 33 45.000 signed deg min sec SDDD MM SS.SSS*
EAST_LONGITUDE -118 30 0.000 signed deg min sec SDDD MM SS.SSS*
NORTH_LATITUDE 32 56 15.000 signed deg min sec SDDD MM SS.SSS*
SOUTH_LATITUDE 32 52 30.000 signed deg min sec SDDD MM SS.SSS*
PRODUCTION_DATE 1998 4 15 yyyy mm dd*
RASTER_ORDER LEFT_RIGHT/TOP_BOTTOM video display order*
BAND_ORGANIZATION "SINGLE FILE" single file or BSQ, or BIL or BIP*
BAND_CONTENT BLACK&WHITE black&white or red green blue*
BITS_PER_PIXEL 8 radiometric resolution*
SAMPLES_AND_LINES 6632 7623 number of columns and rows*
HORIZONTAL_DATUM NAD83 primary horizontal datum*
HORIZONTAL_COORDINATE_SYSTEM UTM *
COORDINATE_ZONE 11 coordinate system zone number*
HORIZONTAL_UNITS METERS coordinate system units*
HORIZONTAL_RESOLUTION 1.00 pixel horiz. ground sample distance*
SECONDARY_HORIZONTAL_DATUM NAD27 secondary horizontal datum*
XY_ORIGIN 353438.000 3645748.000 coord. of upper left pixel pri. datum*
SECONDARY_XY_ORIGIN 353520.152 3645551.938 coord upper left pixel sec datum*
NATION US nation code*
STATE CA state fip code*
NW_QUAD_CORNER_XY 353927.477 3645441.351 XY coords. of pri. NW quad corner*
NE_QUAD_CORNER_XY 359770.939 3645356.418 XY coords. of pri. NE quad corner*
SE_QUAD_CORNER_XY 359672.358 3638426.785 XY coords. of pri. SE quad corner*
SW_QUAD_CORNER_XY 353824.785 3638511.635 XY coords. of pri. SW quad corner*
SECONDARY_NW_QUAD_XY 353924.280 3645250.451 XY coords. - sec. NW quad cor.*
SECONDARY_NE_QUAD_XY 359767.870 3645165.516 XY coords. - sec. NE quad cor.*
SECONDARY_SE_QUAD_XY 359669.292 3638236.098 XY coords. - sec. SE quad cor.*
SECONDARY_SW_QUAD_XY 353821.591 3638320.949 XY coords. - sec. SW quad cor.*
RMSE_XY 3.90 doq horiz. accuracy*
IMAGE_SOURCE "BLACK AND WHITE FILM" b&w, cir, natural color, other*
SOURCE_IMAGE_ID "NAPP 6868 073" source image id*
SOURCE_IMAGE_DATE 1994 6 2 source image date as yyyy mm dd*
SOURCE_DEM_DATE 1943 0 0 source dem date yyyy mm dd*
AGENCY "WESTERN MAPPING CENTER (WMC)" oversight agency*
PRODUCER "ROCKY MOUNTAIN MAPPING CENTER (RMMC)" *
PRODUCTION_SYSTEM "DV2.6.3 10/9OV2.4 5/95" production system*
STANDARD_VERSION 1996 12 version of DOQ standard*
METADATA_DATE 1998 4 17 date created or changed, yyyy mm dd*
DATA_FILE_SIZE 50562368 data set size in bytes*
BYTE_COUNT 6632 header byte count* * * * * * * * * * * * * * * * * * * * * * * * * * * * * * * * * * * * * * * *
END_USGS_HEADER *
