BEGIN_USGS_DOQ_HEADER *
QUADRANGLE_NAME "MIDDLE MOUNTAINS NORTH" *
QUADRANT NW *
NORTH_LATITUDE 33 07 30.000 *
WEST_LONGITUDE -114 22 30.000 *
SOUTH_LATITUDE 33 03 45.000 *
EAST_LONGITUDE -114 18 45.000 *
PRODUCTION_DATE 1998 02 13 *
RASTER_ORDER LEFT_RIGHT/TOP_BOTTOM *
BAND_ORGANIZATION BIP *
BAND_CONTENT RED *
BAND_CONTENT GREEN *
BAND_CONTENT BLUE *
BITS_PER_PIXEL 8 *
SAMPLES_AND_LINES 6720 7710 *
HORIZONTAL_DATUM NAD83 *
HORIZONTAL_COORDINATE_SYSTEM UTM *
COORDINATE_ZONE 11 *
HORIZONTAL_UNITS METERS *
HORIZONTAL_RESOLUTION 1.000 *
SECONDARY_HORIZONTAL_DATUM NAD27 *
XY_ORIGIN 744510.000 3668670.000 *
SECONDARY_XY_ORIGIN 744588.254 3668476.159 *
NATION US *
STATE AZ *
NW_QUAD_CORNER_XY 744904.972 3668211.659 *
NE_QUAD_CORNER_XY 750737.757 3668359.536 *
SE_QUAD_CORNER_XY 750915.424 3661427.575 *
SW_QUAD_CORNER_XY 745078.497 3661279.841 *
SECONDARY_NW_QUAD_XY 744910.361 3668020.165 *
SECONDARY_NE_QUAD_XY 750743.276 3668168.045 *
SECONDARY_SE_QUAD_XY 750920.936 3661236.296 *
SECONDARY_SW_QUAD_XY 745083.881 3661088.558 *
RMSE_XY 2.016 *
IMAGE_SOURCE "CIR FILM" *
SOURCE_IMAGE_ID "NAPP 9560 193" *
SOURCE_IMAGE_DATE 1996 06 09 *
SOURCE_DEM_DATE 1986 01 01 *
AGENCY "WESTERN MAPPING CENTER (WMC)" *
PRODUCER "ANALYTICAL SURVEYS INC." *
PRODUCTION_SYSTEM "ORBIT OR_RECTIFY V.5.2" *
STANDARD_VERSION 1996 12 *
METADATA_DATE 1998 02 15 *
DATA_FILE_SIZE 155453760 *
BYTE_COUNT 20160 * * * * * * * * * * * * * * * * * * * * * * * * * * * * * * * * * * * * * * * * * * * * * * * * * * * * * * * * * * * * * * * * * * * * * * * * * * * * * * * * * * * * * * * * * * * * * * * * * * * * * * * * * * * * * * * * * * * * * * * * * * * * * * * * * * * * * * * * * * * * * * * * * * * * * * * * * * * * * * * * * * * * * * * * * * * * * * * * * * * * * * * * * * * * * * * * * * * * * * * * * * * * * * *
END_USGS_HEADER *
