BEGIN_USGS_DOQ_HEADER *
QUADRANGLE_NAME "MIDDLE MOUNTAINS NORTH" *
QUADRANT SW *
NORTH_LATITUDE 33 03 45.000 *
WEST_LONGITUDE -114 22 30.000 *
SOUTH_LATITUDE 33 00 00.000 *
EAST_LONGITUDE -114 18 45.000 *
PRODUCTION_DATE 1998 02 13 *
RASTER_ORDER LEFT_RIGHT/TOP_BOTTOM *
BAND_ORGANIZATION BIP *
BAND_CONTENT RED *
BAND_CONTENT GREEN *
BAND_CONTENT BLUE *
BITS_PER_PIXEL 8 *
SAMPLES_AND_LINES 6720 7710 *
HORIZONTAL_DATUM NAD83 *
HORIZONTAL_COORDINATE_SYSTEM UTM *
COORDINATE_ZONE 11 *
HORIZONTAL_UNITS METERS *
HORIZONTAL_RESOLUTION 1.000 *
SECONDARY_HORIZONTAL_DATUM NAD27 *
XY_ORIGIN 744690.000 3661740.000 *
SECONDARY_XY_ORIGIN 744768.272 3661546.214 *
NATION US *
STATE AZ *
NW_QUAD_CORNER_XY 745078.497 3661279.841 *
NE_QUAD_CORNER_XY 750915.424 3661427.575 *
SE_QUAD_CORNER_XY 751092.791 3654495.668 *
SW_QUAD_CORNER_XY 745251.730 3654348.077 *
SECONDARY_NW_QUAD_XY 745083.881 3661088.558 *
SECONDARY_NE_QUAD_XY 750920.936 3661236.296 *
SECONDARY_SE_QUAD_XY 751098.298 3654304.602 *
SECONDARY_SW_QUAD_XY 745257.109 3654157.007 *
RMSE_XY 2.001 *
IMAGE_SOURCE "CIR FILM" *
SOURCE_IMAGE_ID "NAPP 9560 195" *
SOURCE_IMAGE_DATE 1996 06 09 *
SOURCE_DEM_DATE 1986 01 01 *
AGENCY "WESTERN MAPPING CENTER (WMC)" *
PRODUCER "ANALYTICAL SURVEYS INC." *
PRODUCTION_SYSTEM "ORBIT OR_RECTIFY V.5.2" *
STANDARD_VERSION 1996 12 *
METADATA_DATE 1998 02 15 *
DATA_FILE_SIZE 155453760 *
BYTE_COUNT 20160 * * * * * * * * * * * * * * * * * * * * * * * * * * * * * * * * * * * * * * * * * * * * * * * * * * * * * * * * * * * * * * * * * * * * * * * * * * * * * * * * * * * * * * * * * * * * * * * * * * * * * * * * * * * * * * * * * * * * * * * * * * * * * * * * * * * * * * * * * * * * * * * * * * * * * * * * * * * * * * * * * * * * * * * * * * * * * * * * * * * * * * * * * * * * * * * * * * * * * * * * * * * * * * *
END_USGS_HEADER *
