BEGIN_USGS_DOQ_HEADER *
QUADRANGLE_NAME "RED HILL SW" *
QUADRANT SE *
NORTH_LATITUDE 33 03 45.000 *
WEST_LONGITUDE -114 26 15.000 *
SOUTH_LATITUDE 33 00 00.000 *
EAST_LONGITUDE -114 22 30.000 *
PRODUCTION_DATE 1998 02 12 *
RASTER_ORDER LEFT_RIGHT/TOP_BOTTOM *
BAND_ORGANIZATION BIP *
BAND_CONTENT RED *
BAND_CONTENT GREEN *
BAND_CONTENT BLUE *
BITS_PER_PIXEL 8 *
SAMPLES_AND_LINES 6720 7710 *
HORIZONTAL_DATUM NAD83 *
HORIZONTAL_COORDINATE_SYSTEM UTM *
COORDINATE_ZONE 11 *
HORIZONTAL_UNITS METERS *
HORIZONTAL_RESOLUTION 1.000 *
SECONDARY_HORIZONTAL_DATUM NAD27 *
XY_ORIGIN 738840.000 3661590.000 *
SECONDARY_XY_ORIGIN 738918.315 3661396.189 *
NATION US *
STATE AZ *
NW_QUAD_CORNER_XY 739241.689 3661135.590 *
NE_QUAD_CORNER_XY 745078.497 3661279.841 *
SE_QUAD_CORNER_XY 745251.730 3654348.077 *
SW_QUAD_CORNER_XY 739410.788 3654203.966 *
SECONDARY_NW_QUAD_XY 739246.945 3660944.304 *
SECONDARY_NE_QUAD_XY 745083.881 3661088.558 *
SECONDARY_SE_QUAD_XY 745257.109 3654157.007 *
SECONDARY_SW_QUAD_XY 739416.039 3654012.893 *
RMSE_XY 2.545 *
IMAGE_SOURCE "CIR FILM" *
SOURCE_IMAGE_ID "NAPP 9561 33" *
SOURCE_IMAGE_DATE 1996 06 09 *
SOURCE_DEM_DATE 1986 01 01 *
AGENCY "WESTERN MAPPING CENTER (WMC)" *
PRODUCER "ANALYTICAL SURVEYS INC." *
PRODUCTION_SYSTEM "ORBIT OR_RECTIFY V.5.2" *
STANDARD_VERSION 1996 12 *
METADATA_DATE 1998 02 12 *
DATA_FILE_SIZE 155453760 *
BYTE_COUNT 20160 * * * * * * * * * * * * * * * * * * * * * * * * * * * * * * * * * * * * * * * * * * * * * * * * * * * * * * * * * * * * * * * * * * * * * * * * * * * * * * * * * * * * * * * * * * * * * * * * * * * * * * * * * * * * * * * * * * * * * * * * * * * * * * * * * * * * * * * * * * * * * * * * * * * * * * * * * * * * * * * * * * * * * * * * * * * * * * * * * * * * * * * * * * * * * * * * * * * * * * * * * * * * * * *
END_USGS_HEADER *
