BEGIN_USGS_DOQ_HEADER *
QUADRANGLE_NAME "RED HILL SW" *
QUADRANT SW *
NORTH_LATITUDE 33 03 45.000 *
WEST_LONGITUDE -114 30 00.000 *
SOUTH_LATITUDE 33 00 00.000 *
EAST_LONGITUDE -114 26 15.000 *
PRODUCTION_DATE 1998 02 12 *
RASTER_ORDER LEFT_RIGHT/TOP_BOTTOM *
BAND_ORGANIZATION BIP *
BAND_CONTENT RED *
BAND_CONTENT GREEN *
BAND_CONTENT BLUE *
BITS_PER_PIXEL 8 *
SAMPLES_AND_LINES 6720 7680 *
HORIZONTAL_DATUM NAD83 *
HORIZONTAL_COORDINATE_SYSTEM UTM *
COORDINATE_ZONE 11 *
HORIZONTAL_UNITS METERS *
HORIZONTAL_RESOLUTION 1.000 *
SECONDARY_HORIZONTAL_DATUM NAD27 *
XY_ORIGIN 733020.000 3661440.000 *
SECONDARY_XY_ORIGIN 733098.357 3661246.164 *
NATION US *
STATE AZ *
STATE CA *
NW_QUAD_CORNER_XY 733404.997 3660994.822 *
NE_QUAD_CORNER_XY 739241.689 3661135.590 *
SE_QUAD_CORNER_XY 739410.788 3654203.966 *
SW_QUAD_CORNER_XY 733569.963 3654063.335 *
SECONDARY_NW_QUAD_XY 733410.124 3660803.534 *
SECONDARY_NE_QUAD_XY 739246.945 3660944.304 *
SECONDARY_SE_QUAD_XY 739416.039 3654012.893 *
SECONDARY_SW_QUAD_XY 733575.086 3653872.259 *
RMSE_XY 1.976 *
IMAGE_SOURCE "CIR FILM" *
SOURCE_IMAGE_ID "NAPP 9561 74" *
SOURCE_IMAGE_DATE 1996 06 09 *
SOURCE_DEM_DATE 1986 01 01 *
AGENCY "WESTERN MAPPING CENTER (WMC)" *
PRODUCER "ANALYTICAL SURVEYS INC." *
PRODUCTION_SYSTEM "ORBIT OR_RECTIFY V.5.2" *
STANDARD_VERSION 1996 12 *
METADATA_DATE 1998 02 12 *
DATA_FILE_SIZE 154848960 *
BYTE_COUNT 20160 * * * * * * * * * * * * * * * * * * * * * * * * * * * * * * * * * * * * * * * * * * * * * * * * * * * * * * * * * * * * * * * * * * * * * * * * * * * * * * * * * * * * * * * * * * * * * * * * * * * * * * * * * * * * * * * * * * * * * * * * * * * * * * * * * * * * * * * * * * * * * * * * * * * * * * * * * * * * * * * * * * * * * * * * * * * * * * * * * * * * * * * * * * * * * * * * * * * * * * * * * * * * * *
END_USGS_HEADER *
