BEGIN_USGS_DOQ_HEADER *
QUADRANGLE_NAME "PICACHO SW" *
QUADRANT NW *
NORTH_LATITUDE 33 07 30.000 *
WEST_LONGITUDE -114 45 00.000 *
SOUTH_LATITUDE 33 03 45.000 *
EAST_LONGITUDE -114 41 15.000 *
PRODUCTION_DATE 1998 02 05 *
RASTER_ORDER LEFT_RIGHT/TOP_BOTTOM *
BAND_ORGANIZATION BIP *
BAND_CONTENT RED *
BAND_CONTENT GREEN *
BAND_CONTENT BLUE *
BITS_PER_PIXEL 8 *
SAMPLES_AND_LINES 6690 7680 *
HORIZONTAL_DATUM NAD83 *
HORIZONTAL_COORDINATE_SYSTEM UTM *
COORDINATE_ZONE 11 *
HORIZONTAL_UNITS METERS *
HORIZONTAL_RESOLUTION 1.000 *
SECONDARY_HORIZONTAL_DATUM NAD27 *
XY_ORIGIN 709530.000 3667830.000 *
SECONDARY_XY_ORIGIN 709608.712 3667635.902 *
NATION US *
STATE CA *
STATE AZ *
NW_QUAD_CORNER_XY 709910.641 3667397.610 *
NE_QUAD_CORNER_XY 715742.760 3667524.571 *
SE_QUAD_CORNER_XY 715895.589 3660593.415 *
SW_QUAD_CORNER_XY 710059.332 3660466.576 *
SECONDARY_NW_QUAD_XY 709915.260 3667206.097 *
SECONDARY_NE_QUAD_XY 715747.507 3667333.062 *
SECONDARY_SE_QUAD_XY 715900.331 3660402.117 *
SECONDARY_SW_QUAD_XY 710063.947 3660275.275 *
RMSE_XY 1.367 *
IMAGE_SOURCE "CIR FILM" *
SOURCE_IMAGE_ID "NAPP 9562 40" *
SOURCE_IMAGE_DATE 1996 06 15 *
SOURCE_DEM_DATE 1965 01 01 *
AGENCY "WESTERN MAPPING CENTER (WMC)" *
PRODUCER "ANALYTICAL SURVEYS INC." *
PRODUCTION_SYSTEM "ORBIT OR_RECTIFY V.5.2" *
STANDARD_VERSION 1996 12 *
METADATA_DATE 1998 02 05 *
DATA_FILE_SIZE 154157670 *
BYTE_COUNT 20070 * * * * * * * * * * * * * * * * * * * * * * * * * * * * * * * * * * * * * * * * * * * * * * * * * * * * * * * * * * * * * * * * * * * * * * * * * * * * * * * * * * * * * * * * * * * * * * * * * * * * * * * * * * * * * * * * * * * * * * * * * * * * * * * * * * * * * * * * * * * * * * * * * * * * * * * * * * * * * * * * * * * * * * * * * * * * * * * * * * * * * * * * * * * * * * * * * * * * * * * * * * * * *
END_USGS_HEADER *
