BEGIN_USGS_DOQ_HEADER *
QUADRANGLE_NAME "PICACHO SW" *
QUADRANT SE *
NORTH_LATITUDE 33 03 45.000 *
WEST_LONGITUDE -114 41 15.000 *
SOUTH_LATITUDE 33 00 00.000 *
EAST_LONGITUDE -114 37 30.000 *
PRODUCTION_DATE 1998 02 05 *
RASTER_ORDER LEFT_RIGHT/TOP_BOTTOM *
BAND_ORGANIZATION BIP *
BAND_CONTENT RED *
BAND_CONTENT GREEN *
BAND_CONTENT BLUE *
BITS_PER_PIXEL 8 *
SAMPLES_AND_LINES 6690 7710 *
HORIZONTAL_DATUM NAD83 *
HORIZONTAL_COORDINATE_SYSTEM UTM *
COORDINATE_ZONE 11 *
HORIZONTAL_UNITS METERS *
HORIZONTAL_RESOLUTION 1.000 *
SECONDARY_HORIZONTAL_DATUM NAD27 *
XY_ORIGIN 715500.000 3661050.000 *
SECONDARY_XY_ORIGIN 715578.662 3660855.999 *
NATION US *
STATE CA *
STATE AZ *
NW_QUAD_CORNER_XY 715895.589 3660593.415 *
NE_QUAD_CORNER_XY 721731.949 3660723.735 *
SE_QUAD_CORNER_XY 721888.652 3653792.511 *
SW_QUAD_CORNER_XY 716048.160 3653662.317 *
SECONDARY_NW_QUAD_XY 715900.331 3660402.117 *
SECONDARY_NE_QUAD_XY 721736.820 3660532.441 *
SECONDARY_SE_QUAD_XY 721893.518 3653601.429 *
SECONDARY_SW_QUAD_XY 716052.898 3653471.232 *
RMSE_XY 2.293 *
IMAGE_SOURCE "CIR FILM" *
SOURCE_IMAGE_ID "NAPP 9566 170" *
SOURCE_IMAGE_DATE 1996 06 16 *
SOURCE_DEM_DATE 1965 01 01 *
AGENCY "WESTERN MAPPING CENTER (WMC)" *
PRODUCER "ANALYTICAL SURVEYS INC." *
PRODUCTION_SYSTEM "ORBIT OR_RECTIFY V.5.2" *
STANDARD_VERSION 1996 12 *
METADATA_DATE 1998 02 05 *
DATA_FILE_SIZE 154759770 *
BYTE_COUNT 20070 * * * * * * * * * * * * * * * * * * * * * * * * * * * * * * * * * * * * * * * * * * * * * * * * * * * * * * * * * * * * * * * * * * * * * * * * * * * * * * * * * * * * * * * * * * * * * * * * * * * * * * * * * * * * * * * * * * * * * * * * * * * * * * * * * * * * * * * * * * * * * * * * * * * * * * * * * * * * * * * * * * * * * * * * * * * * * * * * * * * * * * * * * * * * * * * * * * * * * * * * * * * * *
END_USGS_HEADER *
