BEGIN_USGS_DOQ_HEADER *
QUADRANGLE_NAME "NINEMILE WASH" *
QUADRANT NW *
NORTH_LATITUDE 33 07 30.000 *
WEST_LONGITUDE -115 00 00.000 *
SOUTH_LATITUDE 33 03 45.000 *
EAST_LONGITUDE -114 56 15.000 *
PRODUCTION_DATE 1998 01 28 *
RASTER_ORDER LEFT_RIGHT/TOP_BOTTOM *
BAND_ORGANIZATION BIP *
BAND_CONTENT RED *
BAND_CONTENT GREEN *
BAND_CONTENT BLUE *
BITS_PER_PIXEL 8 *
SAMPLES_AND_LINES 6690 7680 *
HORIZONTAL_DATUM NAD83 *
HORIZONTAL_COORDINATE_SYSTEM UTM *
COORDINATE_ZONE 11 *
HORIZONTAL_UNITS METERS *
HORIZONTAL_RESOLUTION 1.000 *
SECONDARY_HORIZONTAL_DATUM NAD27 *
XY_ORIGIN 686190.000 3667350.000 *
SECONDARY_XY_ORIGIN 686269.025 3667155.684 *
NATION US *
STATE CA *
NW_QUAD_CORNER_XY 686583.152 3666924.599 *
NE_QUAD_CORNER_XY 692414.882 3667037.627 *
SE_QUAD_CORNER_XY 692551.164 3660106.940 *
SW_QUAD_CORNER_XY 686715.299 3659994.021 *
SECONDARY_NW_QUAD_XY 686587.257 3666733.076 *
SECONDARY_NE_QUAD_XY 692419.116 3666846.107 *
SECONDARY_SE_QUAD_XY 692555.393 3659915.632 *
SECONDARY_SW_QUAD_XY 686719.400 3659802.710 *
RMSE_XY 3.207 *
IMAGE_SOURCE "CIR FILM" *
SOURCE_IMAGE_ID "NAPP 9563 37" *
SOURCE_IMAGE_DATE 1996 06 15 *
SOURCE_IMAGE_ID "NAPP 9563 36" *
SOURCE_IMAGE_DATE 1996 06 15 *
SOURCE_DEM_DATE 1997 01 01 *
AGENCY "WESTERN MAPPING CENTER (WMC)" *
PRODUCER "ANALYTICAL SURVEYS INC." *
PRODUCTION_SYSTEM "ORBIT OR_RECTIFY V.5.2" *
STANDARD_VERSION 1996 12 *
METADATA_DATE 1998 01 28 *
DATA_FILE_SIZE 154157670 *
BYTE_COUNT 20070 * * * * * * * * * * * * * * * * * * * * * * * * * * * * * * * * * * * * * * * * * * * * * * * * * * * * * * * * * * * * * * * * * * * * * * * * * * * * * * * * * * * * * * * * * * * * * * * * * * * * * * * * * * * * * * * * * * * * * * * * * * * * * * * * * * * * * * * * * * * * * * * * * * * * * * * * * * * * * * * * * * * * * * * * * * * * * * * * * * * * * * * * * * * * * * * * * * * * * * * * * * * *
END_USGS_HEADER *
