BEGIN_USGS_DOQ_HEADER *
QUADRANGLE_NAME "NINEMILE WASH" *
QUADRANT SW *
NORTH_LATITUDE 33 03 45.000 *
WEST_LONGITUDE -115 00 00.000 *
SOUTH_LATITUDE 33 00 00.000 *
EAST_LONGITUDE -114 56 15.000 *
PRODUCTION_DATE 1998 01 28 *
RASTER_ORDER LEFT_RIGHT/TOP_BOTTOM *
BAND_ORGANIZATION BIP *
BAND_CONTENT RED *
BAND_CONTENT GREEN *
BAND_CONTENT BLUE *
BITS_PER_PIXEL 8 *
SAMPLES_AND_LINES 6660 7680 *
HORIZONTAL_DATUM NAD83 *
HORIZONTAL_COORDINATE_SYSTEM UTM *
COORDINATE_ZONE 11 *
HORIZONTAL_UNITS METERS *
HORIZONTAL_RESOLUTION 1.000 *
SECONDARY_HORIZONTAL_DATUM NAD27 *
XY_ORIGIN 686340.000 3660420.000 *
SECONDARY_XY_ORIGIN 686419.092 3660225.676 *
NATION US *
STATE CA *
NW_QUAD_CORNER_XY 686715.299 3659994.021 *
NE_QUAD_CORNER_XY 692551.164 3660106.940 *
SE_QUAD_CORNER_XY 692687.217 3653176.314 *
SW_QUAD_CORNER_XY 686847.223 3653063.504 *
SECONDARY_NW_QUAD_XY 686719.400 3659802.710 *
SECONDARY_NE_QUAD_XY 692555.393 3659915.632 *
SECONDARY_SE_QUAD_XY 692691.442 3652985.218 *
SECONDARY_SW_QUAD_XY 686851.320 3652872.406 *
RMSE_XY 0.817 *
IMAGE_SOURCE "CIR FILM" *
SOURCE_IMAGE_ID "NAPP 9563 39" *
SOURCE_IMAGE_DATE 1996 06 15 *
SOURCE_IMAGE_ID "NAPP 9563 37" *
SOURCE_IMAGE_DATE 1996 06 15 *
SOURCE_DEM_DATE 1997 01 01 *
AGENCY "WESTERN MAPPING CENTER (WMC)" *
PRODUCER "ANALYTICAL SURVEYS INC." *
PRODUCTION_SYSTEM "ORBIT OR_RECTIFY V.5.2" *
STANDARD_VERSION 1996 12 *
METADATA_DATE 1998 01 28 *
DATA_FILE_SIZE 153466380 *
BYTE_COUNT 19980 * * * * * * * * * * * * * * * * * * * * * * * * * * * * * * * * * * * * * * * * * * * * * * * * * * * * * * * * * * * * * * * * * * * * * * * * * * * * * * * * * * * * * * * * * * * * * * * * * * * * * * * * * * * * * * * * * * * * * * * * * * * * * * * * * * * * * * * * * * * * * * * * * * * * * * * * * * * * * * * * * * * * * * * * * * * * * * * * * * * * * * * * * * * * * * * * * * * * * * * * * * *
END_USGS_HEADER *
