BEGIN_USGS_DOQ_HEADER *
QUADRANGLE_NAME "RED HILL" *
QUADRANT SE *
NORTH_LATITUDE 33 11 15.000 *
WEST_LONGITUDE -114 26 15.000 *
SOUTH_LATITUDE 33 07 30.000 *
EAST_LONGITUDE -114 22 30.000 *
PRODUCTION_DATE 1998 02 11 *
RASTER_ORDER LEFT_RIGHT/TOP_BOTTOM *
BAND_ORGANIZATION BIP *
BAND_CONTENT RED *
BAND_CONTENT GREEN *
BAND_CONTENT BLUE *
BITS_PER_PIXEL 8 *
SAMPLES_AND_LINES 6720 7710 *
HORIZONTAL_DATUM NAD83 *
HORIZONTAL_COORDINATE_SYSTEM UTM *
COORDINATE_ZONE 11 *
HORIZONTAL_UNITS METERS *
HORIZONTAL_RESOLUTION 1.000 *
SECONDARY_HORIZONTAL_DATUM NAD27 *
XY_ORIGIN 738510.000 3675450.000 *
SECONDARY_XY_ORIGIN 738588.291 3675256.077 *
NATION US *
STATE AZ *
NW_QUAD_CORNER_XY 738902.635 3674999.005 *
NE_QUAD_CORNER_XY 744731.155 3675143.533 *
SE_QUAD_CORNER_XY 744904.972 3668211.659 *
SW_QUAD_CORNER_XY 739072.304 3668067.269 *
SECONDARY_NW_QUAD_XY 738907.901 3674807.296 *
SECONDARY_NE_QUAD_XY 744736.550 3674951.827 *
SECONDARY_SE_QUAD_XY 744910.361 3668020.165 *
SECONDARY_SW_QUAD_XY 739077.565 3667875.772 *
RMSE_XY 1.595 *
IMAGE_SOURCE "CIR FILM" *
SOURCE_IMAGE_ID "NAPP 9574 80" *
SOURCE_IMAGE_DATE 1996 09 28 *
SOURCE_DEM_DATE 1986 01 01 *
AGENCY "WESTERN MAPPING CENTER (WMC)" *
PRODUCER "ANALYTICAL SURVEYS INC." *
PRODUCTION_SYSTEM "ORBIT OR_RECTIFY V.5.2" *
STANDARD_VERSION 1996 12 *
METADATA_DATE 1998 02 11 *
DATA_FILE_SIZE 155453760 *
BYTE_COUNT 20160 * * * * * * * * * * * * * * * * * * * * * * * * * * * * * * * * * * * * * * * * * * * * * * * * * * * * * * * * * * * * * * * * * * * * * * * * * * * * * * * * * * * * * * * * * * * * * * * * * * * * * * * * * * * * * * * * * * * * * * * * * * * * * * * * * * * * * * * * * * * * * * * * * * * * * * * * * * * * * * * * * * * * * * * * * * * * * * * * * * * * * * * * * * * * * * * * * * * * * * * * * * * * * * *
END_USGS_HEADER *
