BEGIN_USGS_DOQ_HEADER *
QUADRANGLE_NAME "RED HILL" *
QUADRANT SW *
NORTH_LATITUDE 33 11 15.000 *
WEST_LONGITUDE -114 30 00.000 *
SOUTH_LATITUDE 33 07 30.000 *
EAST_LONGITUDE -114 26 15.000 *
PRODUCTION_DATE 1998 02 11 *
RASTER_ORDER LEFT_RIGHT/TOP_BOTTOM *
BAND_ORGANIZATION BIP *
BAND_CONTENT RED *
BAND_CONTENT GREEN *
BAND_CONTENT BLUE *
BITS_PER_PIXEL 8 *
SAMPLES_AND_LINES 6690 7710 *
HORIZONTAL_DATUM NAD83 *
HORIZONTAL_COORDINATE_SYSTEM UTM *
COORDINATE_ZONE 11 *
HORIZONTAL_UNITS METERS *
HORIZONTAL_RESOLUTION 1.000 *
SECONDARY_HORIZONTAL_DATUM NAD27 *
XY_ORIGIN 732690.000 3675330.000 *
SECONDARY_XY_ORIGIN 732768.348 3675136.049 *
NATION US *
STATE AZ *
NW_QUAD_CORNER_XY 733074.230 3674857.966 *
NE_QUAD_CORNER_XY 738902.635 3674999.005 *
SE_QUAD_CORNER_XY 739072.304 3668067.269 *
SW_QUAD_CORNER_XY 733239.752 3667926.366 *
SECONDARY_NW_QUAD_XY 733079.368 3674666.254 *
SECONDARY_NE_QUAD_XY 738907.901 3674807.296 *
SECONDARY_SE_QUAD_XY 739077.565 3667875.772 *
SECONDARY_SW_QUAD_XY 733244.885 3667734.865 *
RMSE_XY 1.741 *
IMAGE_SOURCE "CIR FILM" *
SOURCE_IMAGE_ID "NAPP 9561 70" *
SOURCE_IMAGE_DATE 1996 06 09 *
SOURCE_DEM_DATE 1986 01 01 *
AGENCY "WESTERN MAPPING CENTER (WMC)" *
PRODUCER "ANALYTICAL SURVEYS INC." *
PRODUCTION_SYSTEM "ORBIT OR_RECTIFY V.5.2" *
STANDARD_VERSION 1996 12 *
METADATA_DATE 1998 02 11 *
DATA_FILE_SIZE 154759770 *
BYTE_COUNT 20070 * * * * * * * * * * * * * * * * * * * * * * * * * * * * * * * * * * * * * * * * * * * * * * * * * * * * * * * * * * * * * * * * * * * * * * * * * * * * * * * * * * * * * * * * * * * * * * * * * * * * * * * * * * * * * * * * * * * * * * * * * * * * * * * * * * * * * * * * * * * * * * * * * * * * * * * * * * * * * * * * * * * * * * * * * * * * * * * * * * * * * * * * * * * * * * * * * * * * * * * * * * * * * *
END_USGS_HEADER *
