BEGIN_USGS_DOQ_HEADER *
QUADRANGLE_NAME "HIDDEN VALLEY" *
QUADRANT SE *
NORTH_LATITUDE 33 11 15.000 *
WEST_LONGITUDE -114 33 45.000 *
SOUTH_LATITUDE 33 07 30.000 *
EAST_LONGITUDE -114 30 00.000 *
PRODUCTION_DATE 1998 02 07 *
RASTER_ORDER LEFT_RIGHT/TOP_BOTTOM *
BAND_ORGANIZATION BIP *
BAND_CONTENT RED *
BAND_CONTENT GREEN *
BAND_CONTENT BLUE *
BITS_PER_PIXEL 8 *
SAMPLES_AND_LINES 6690 7710 *
HORIZONTAL_DATUM NAD83 *
HORIZONTAL_COORDINATE_SYSTEM UTM *
COORDINATE_ZONE 11 *
HORIZONTAL_UNITS METERS *
HORIZONTAL_RESOLUTION 1.000 *
SECONDARY_HORIZONTAL_DATUM NAD27 *
XY_ORIGIN 726870.000 3675180.000 *
SECONDARY_XY_ORIGIN 726948.432 3674986.000 *
NATION US *
STATE AZ *
NW_QUAD_CORNER_XY 727245.937 3674720.418 *
NE_QUAD_CORNER_XY 733074.230 3674857.966 *
SE_QUAD_CORNER_XY 733239.752 3667926.366 *
SW_QUAD_CORNER_XY 727407.313 3667788.949 *
SECONDARY_NW_QUAD_XY 727250.946 3674528.703 *
SECONDARY_NE_QUAD_XY 733079.368 3674666.254 *
SECONDARY_SE_QUAD_XY 733244.885 3667734.865 *
SECONDARY_SW_QUAD_XY 727412.317 3667597.445 *
RMSE_XY 2.081 *
IMAGE_SOURCE "CIR FILM" *
SOURCE_IMAGE_ID "NAPP 9574 75" *
SOURCE_IMAGE_DATE 1996 09 28 *
SOURCE_DEM_DATE 1997 01 01 *
AGENCY "WESTERN MAPPING CENTER (WMC)" *
PRODUCER "ANALYTICAL SURVEYS INC." *
PRODUCTION_SYSTEM "ORBIT OR_RECTIFY V.5.2" *
STANDARD_VERSION 1996 12 *
METADATA_DATE 1998 02 07 *
DATA_FILE_SIZE 154759770 *
BYTE_COUNT 20070 * * * * * * * * * * * * * * * * * * * * * * * * * * * * * * * * * * * * * * * * * * * * * * * * * * * * * * * * * * * * * * * * * * * * * * * * * * * * * * * * * * * * * * * * * * * * * * * * * * * * * * * * * * * * * * * * * * * * * * * * * * * * * * * * * * * * * * * * * * * * * * * * * * * * * * * * * * * * * * * * * * * * * * * * * * * * * * * * * * * * * * * * * * * * * * * * * * * * * * * * * * * * * *
END_USGS_HEADER *
