BEGIN_USGS_DOQ_HEADER *
QUADRANGLE_NAME "MOHAVE PEAK" *
QUADRANT NW *
NORTH_LATITUDE 33 22 30.000 *
WEST_LONGITUDE -114 30 00.000 *
SOUTH_LATITUDE 33 18 45.000 *
EAST_LONGITUDE -114 26 15.000 *
PRODUCTION_DATE 1998 02 11 *
RASTER_ORDER LEFT_RIGHT/TOP_BOTTOM *
BAND_ORGANIZATION BIP *
BAND_CONTENT RED *
BAND_CONTENT GREEN *
BAND_CONTENT BLUE *
BITS_PER_PIXEL 8 *
SAMPLES_AND_LINES 6690 7710 *
HORIZONTAL_DATUM NAD83 *
HORIZONTAL_COORDINATE_SYSTEM UTM *
COORDINATE_ZONE 11 *
HORIZONTAL_UNITS METERS *
HORIZONTAL_RESOLUTION 1.000 *
SECONDARY_HORIZONTAL_DATUM NAD27 *
XY_ORIGIN 732180.000 3696120.000 *
SECONDARY_XY_ORIGIN 732258.307 3695925.977 *
NATION US *
STATE AZ *
NW_QUAD_CORNER_XY 732575.998 3695653.106 *
NE_QUAD_CORNER_XY 738391.921 3695794.546 *
SE_QUAD_CORNER_XY 738562.443 3688862.643 *
SW_QUAD_CORNER_XY 732742.353 3688721.336 *
SECONDARY_NW_QUAD_XY 732581.151 3695460.765 *
SECONDARY_NE_QUAD_XY 738397.203 3695602.208 *
SECONDARY_SE_QUAD_XY 738567.720 3688670.514 *
SECONDARY_SW_QUAD_XY 732747.500 3688529.204 *
RMSE_XY 3.827 *
IMAGE_SOURCE "CIR FILM" *
SOURCE_IMAGE_ID "NAPP 9561 64" *
SOURCE_IMAGE_DATE 1996 06 09 *
SOURCE_IMAGE_ID "NAPP 9561 63" *
SOURCE_IMAGE_DATE 1996 06 09 *
SOURCE_IMAGE_ID "NAPP 9561 66" *
SOURCE_IMAGE_DATE 1996 06 09 *
SOURCE_DEM_DATE 1986 01 01 *
AGENCY "WESTERN MAPPING CENTER (WMC)" *
PRODUCER "ANALYTICAL SURVEYS INC." *
PRODUCTION_SYSTEM "ORBIT OR_RECTIFY V.5.2" *
STANDARD_VERSION 1996 12 *
METADATA_DATE 1998 02 12 *
DATA_FILE_SIZE 154759770 *
BYTE_COUNT 20070 * * * * * * * * * * * * * * * * * * * * * * * * * * * * * * * * * * * * * * * * * * * * * * * * * * * * * * * * * * * * * * * * * * * * * * * * * * * * * * * * * * * * * * * * * * * * * * * * * * * * * * * * * * * * * * * * * * * * * * * * * * * * * * * * * * * * * * * * * * * * * * * * * * * * * * * * * * * * * * * * * * * * * * * * * * * * * * * * * * * * * * * * * * * * * * * * * * * * * * * * * *
END_USGS_HEADER *
