BEGIN_USGS_DOQ_HEADER *
QUADRANGLE_NAME "MOHAVE PEAK" *
QUADRANT SE *
NORTH_LATITUDE 33 18 45.000 *
WEST_LONGITUDE -114 26 15.000 *
SOUTH_LATITUDE 33 15 00.000 *
EAST_LONGITUDE -114 22 30.000 *
PRODUCTION_DATE 1998 02 11 *
RASTER_ORDER LEFT_RIGHT/TOP_BOTTOM *
BAND_ORGANIZATION BIP *
BAND_CONTENT RED *
BAND_CONTENT GREEN *
BAND_CONTENT BLUE *
BITS_PER_PIXEL 8 *
SAMPLES_AND_LINES 6690 7680 *
HORIZONTAL_DATUM NAD83 *
HORIZONTAL_COORDINATE_SYSTEM UTM *
COORDINATE_ZONE 11 *
HORIZONTAL_UNITS METERS *
HORIZONTAL_RESOLUTION 1.000 *
SECONDARY_HORIZONTAL_DATUM NAD27 *
XY_ORIGIN 738180.000 3689310.000 *
SECONDARY_XY_ORIGIN 738258.272 3689116.009 *
NATION US *
STATE AZ *
NW_QUAD_CORNER_XY 738562.443 3688862.643 *
NE_QUAD_CORNER_XY 744382.647 3689007.446 *
SE_QUAD_CORNER_XY 744557.047 3682075.462 *
SW_QUAD_CORNER_XY 738732.681 3681930.796 *
SECONDARY_NW_QUAD_XY 738567.720 3688670.514 *
SECONDARY_NE_QUAD_XY 744388.053 3688815.320 *
SECONDARY_SE_QUAD_XY 744562.447 3681883.546 *
SECONDARY_SW_QUAD_XY 738737.953 3681738.877 *
RMSE_XY 1.420 *
IMAGE_SOURCE "CIR FILM" *
SOURCE_IMAGE_ID "NAPP 9574 84" *
SOURCE_IMAGE_DATE 1996 09 28 *
SOURCE_DEM_DATE 1986 01 01 *
AGENCY "WESTERN MAPPING CENTER (WMC)" *
PRODUCER "ANALYTICAL SURVEYS INC." *
PRODUCTION_SYSTEM "ORBIT OR_RECTIFY V.5.2" *
STANDARD_VERSION 1996 12 *
METADATA_DATE 1998 02 12 *
DATA_FILE_SIZE 154157670 *
BYTE_COUNT 20070 * * * * * * * * * * * * * * * * * * * * * * * * * * * * * * * * * * * * * * * * * * * * * * * * * * * * * * * * * * * * * * * * * * * * * * * * * * * * * * * * * * * * * * * * * * * * * * * * * * * * * * * * * * * * * * * * * * * * * * * * * * * * * * * * * * * * * * * * * * * * * * * * * * * * * * * * * * * * * * * * * * * * * * * * * * * * * * * * * * * * * * * * * * * * * * * * * * * * * * * * * * * * * *
END_USGS_HEADER *
