BEGIN_USGS_DOQ_HEADER *
QUADRANGLE_NAME "CIBOLA SE" *
QUADRANT NW *
NORTH_LATITUDE 33 22 30.000 *
WEST_LONGITUDE -114 37 30.000 *
SOUTH_LATITUDE 33 18 45.000 *
EAST_LONGITUDE -114 33 45.000 *
PRODUCTION_DATE 1998 02 12 *
RASTER_ORDER LEFT_RIGHT/TOP_BOTTOM *
BAND_ORGANIZATION BIP *
BAND_CONTENT RED *
BAND_CONTENT GREEN *
BAND_CONTENT BLUE *
BITS_PER_PIXEL 8 *
SAMPLES_AND_LINES 6660 7680 *
HORIZONTAL_DATUM NAD83 *
HORIZONTAL_COORDINATE_SYSTEM UTM *
COORDINATE_ZONE 11 *
HORIZONTAL_UNITS METERS *
HORIZONTAL_RESOLUTION 1.000 *
SECONDARY_HORIZONTAL_DATUM NAD27 *
XY_ORIGIN 720570.000 3695820.000 *
SECONDARY_XY_ORIGIN 720648.408 3695625.896 *
NATION US *
STATE AZ *
NW_QUAD_CORNER_XY 720944.479 3695380.724 *
NE_QUAD_CORNER_XY 726760.185 3695515.166 *
SE_QUAD_CORNER_XY 726922.373 3688583.526 *
SW_QUAD_CORNER_XY 721102.501 3688449.211 *
SECONDARY_NW_QUAD_XY 720949.374 3695188.377 *
SECONDARY_NE_QUAD_XY 726765.209 3695322.822 *
SECONDARY_SE_QUAD_XY 726927.392 3688391.391 *
SECONDARY_SW_QUAD_XY 721107.391 3688257.073 *
RMSE_XY 2.351 *
IMAGE_SOURCE "CIR FILM" *
SOURCE_IMAGE_ID "NAPP 9574 59" *
SOURCE_IMAGE_DATE 1996 09 28 *
SOURCE_IMAGE_ID "NAPP 9574 58" *
SOURCE_IMAGE_DATE 1996 09 28 *
SOURCE_DEM_DATE 1997 01 01 *
AGENCY "WESTERN MAPPING CENTER (WMC)" *
PRODUCER "ANALYTICAL SURVEYS INC." *
PRODUCTION_SYSTEM "ORBIT OR_RECTIFY V.5.2" *
STANDARD_VERSION 1996 12 *
METADATA_DATE 1998 02 12 *
DATA_FILE_SIZE 153466380 *
BYTE_COUNT 19980 * * * * * * * * * * * * * * * * * * * * * * * * * * * * * * * * * * * * * * * * * * * * * * * * * * * * * * * * * * * * * * * * * * * * * * * * * * * * * * * * * * * * * * * * * * * * * * * * * * * * * * * * * * * * * * * * * * * * * * * * * * * * * * * * * * * * * * * * * * * * * * * * * * * * * * * * * * * * * * * * * * * * * * * * * * * * * * * * * * * * * * * * * * * * * * * * * * * * * * * * * * *
END_USGS_HEADER *
