BEGIN_USGS_DOQ_HEADER *
QUADRANGLE_NAME "PALO VERDE PEAK" *
QUADRANT NE *
NORTH_LATITUDE 33 22 30.000 *
WEST_LONGITUDE -114 48 45.000 *
SOUTH_LATITUDE 33 18 45.000 *
EAST_LONGITUDE -114 45 00.000 *
PRODUCTION_DATE 1998 01 31 *
RASTER_ORDER LEFT_RIGHT/TOP_BOTTOM *
BAND_ORGANIZATION BIP *
BAND_CONTENT RED *
BAND_CONTENT GREEN *
BAND_CONTENT BLUE *
BITS_PER_PIXEL 8 *
SAMPLES_AND_LINES 6660 7680 *
HORIZONTAL_DATUM NAD83 *
HORIZONTAL_COORDINATE_SYSTEM UTM *
COORDINATE_ZONE 11 *
HORIZONTAL_UNITS METERS *
HORIZONTAL_RESOLUTION 1.000 *
SECONDARY_HORIZONTAL_DATUM NAD27 *
XY_ORIGIN 703110.000 3695430.000 *
SECONDARY_XY_ORIGIN 703188.570 3695235.786 *
NATION US *
STATE CA *
NW_QUAD_CORNER_XY 703497.979 3694998.388 *
NE_QUAD_CORNER_XY 709313.379 3695122.336 *
SE_QUAD_CORNER_XY 709463.069 3688191.066 *
SW_QUAD_CORNER_XY 703643.504 3688067.235 *
SECONDARY_NW_QUAD_XY 703502.487 3694806.032 *
SECONDARY_NE_QUAD_XY 709318.016 3694929.983 *
SECONDARY_SE_QUAD_XY 709467.701 3687998.922 *
SECONDARY_SW_QUAD_XY 703648.008 3687875.088 *
RMSE_XY 1.902 *
IMAGE_SOURCE "CIR FILM" *
SOURCE_IMAGE_ID "NAPP 9562 93" *
SOURCE_IMAGE_DATE 1996 06 15 *
SOURCE_IMAGE_ID "NAPP 9562 92" *
SOURCE_IMAGE_DATE 1996 06 15 *
SOURCE_DEM_DATE 1997 01 01 *
AGENCY "WESTERN MAPPING CENTER (WMC)" *
PRODUCER "ANALYTICAL SURVEYS INC." *
PRODUCTION_SYSTEM "ORBIT OR_RECTIFY V.5.2" *
STANDARD_VERSION 1996 12 *
METADATA_DATE 1998 01 31 *
DATA_FILE_SIZE 153466380 *
BYTE_COUNT 19980 * * * * * * * * * * * * * * * * * * * * * * * * * * * * * * * * * * * * * * * * * * * * * * * * * * * * * * * * * * * * * * * * * * * * * * * * * * * * * * * * * * * * * * * * * * * * * * * * * * * * * * * * * * * * * * * * * * * * * * * * * * * * * * * * * * * * * * * * * * * * * * * * * * * * * * * * * * * * * * * * * * * * * * * * * * * * * * * * * * * * * * * * * * * * * * * * * * * * * * * * * * *
END_USGS_HEADER *
