BEGIN_USGS_DOQ_HEADER *
QUADRANGLE_NAME "TRIGO PASS" *
QUADRANT SW *
NORTH_LATITUDE 33 26 15.000 *
WEST_LONGITUDE -114 22 30.000 *
SOUTH_LATITUDE 33 22 30.000 *
EAST_LONGITUDE -114 18 45.000 *
PRODUCTION_DATE 1998 02 13 *
RASTER_ORDER LEFT_RIGHT/TOP_BOTTOM *
BAND_ORGANIZATION BIP *
BAND_CONTENT RED *
BAND_CONTENT GREEN *
BAND_CONTENT BLUE *
BITS_PER_PIXEL 8 *
SAMPLES_AND_LINES 6690 7740 *
HORIZONTAL_DATUM NAD83 *
HORIZONTAL_COORDINATE_SYSTEM UTM *
COORDINATE_ZONE 11 *
HORIZONTAL_UNITS METERS *
HORIZONTAL_RESOLUTION 1.000 *
SECONDARY_HORIZONTAL_DATUM NAD27 *
XY_ORIGIN 743640.000 3703350.000 *
SECONDARY_XY_ORIGIN 743718.209 3703155.997 *
NATION US *
STATE AZ *
NW_QUAD_CORNER_XY 744032.975 3702871.580 *
NE_QUAD_CORNER_XY 749844.951 3703020.159 *
SE_QUAD_CORNER_XY 750024.108 3696087.925 *
SW_QUAD_CORNER_XY 744207.957 3695939.485 *
SECONDARY_NW_QUAD_XY 744038.391 3702679.037 *
SECONDARY_NE_QUAD_XY 749850.496 3702827.619 *
SECONDARY_SE_QUAD_XY 750029.648 3695895.594 *
SECONDARY_SW_QUAD_XY 744213.368 3695747.151 *
RMSE_XY 1.418 *
IMAGE_SOURCE "CIR FILM" *
SOURCE_IMAGE_ID "NAPP 9560 183" *
SOURCE_IMAGE_DATE 1996 06 09 *
SOURCE_DEM_DATE 1986 01 01 *
AGENCY "WESTERN MAPPING CENTER (WMC)" *
PRODUCER "ANALYTICAL SURVEYS INC." *
PRODUCTION_SYSTEM "ORBIT OR_RECTIFY V.5.2" *
STANDARD_VERSION 1996 12 *
METADATA_DATE 1998 02 13 *
DATA_FILE_SIZE 155361870 *
BYTE_COUNT 20070 * * * * * * * * * * * * * * * * * * * * * * * * * * * * * * * * * * * * * * * * * * * * * * * * * * * * * * * * * * * * * * * * * * * * * * * * * * * * * * * * * * * * * * * * * * * * * * * * * * * * * * * * * * * * * * * * * * * * * * * * * * * * * * * * * * * * * * * * * * * * * * * * * * * * * * * * * * * * * * * * * * * * * * * * * * * * * * * * * * * * * * * * * * * * * * * * * * * * * * * * * * * * * *
END_USGS_HEADER *
