BEGIN_USGS_DOQ_HEADER *
QUADRANGLE_NAME "NORTH TRIGO PEAKS" *
QUADRANT SW *
NORTH_LATITUDE 33 26 15.000 *
WEST_LONGITUDE -114 30 00.000 *
SOUTH_LATITUDE 33 22 30.000 *
EAST_LONGITUDE -114 26 15.000 *
PRODUCTION_DATE 1998 02 10 *
RASTER_ORDER LEFT_RIGHT/TOP_BOTTOM *
BAND_ORGANIZATION BIP *
BAND_CONTENT RED *
BAND_CONTENT GREEN *
BAND_CONTENT BLUE *
BITS_PER_PIXEL 8 *
SAMPLES_AND_LINES 6690 7710 *
HORIZONTAL_DATUM NAD83 *
HORIZONTAL_COORDINATE_SYSTEM UTM *
COORDINATE_ZONE 11 *
HORIZONTAL_UNITS METERS *
HORIZONTAL_RESOLUTION 1.000 *
SECONDARY_HORIZONTAL_DATUM NAD27 *
XY_ORIGIN 732030.000 3703050.000 *
SECONDARY_XY_ORIGIN 732108.287 3702855.970 *
NATION US *
STATE AZ *
NW_QUAD_CORNER_XY 732409.367 3702584.932 *
NE_QUAD_CORNER_XY 738221.115 3702726.504 *
SE_QUAD_CORNER_XY 738391.921 3695794.546 *
SW_QUAD_CORNER_XY 732575.998 3695653.106 *
SECONDARY_NW_QUAD_XY 732414.524 3702392.383 *
SECONDARY_NE_QUAD_XY 738226.402 3702533.959 *
SECONDARY_SE_QUAD_XY 738397.203 3695602.208 *
SECONDARY_SW_QUAD_XY 732581.151 3695460.765 *
RMSE_XY 2.934 *
IMAGE_SOURCE "CIR FILM" *
SOURCE_IMAGE_ID "NAPP 9561 62" *
SOURCE_IMAGE_DATE 1996 06 09 *
SOURCE_DEM_DATE 1986 01 01 *
AGENCY "WESTERN MAPPING CENTER (WMC)" *
PRODUCER "ANALYTICAL SURVEYS INC." *
PRODUCTION_SYSTEM "ORBIT OR_RECTIFY V.5.2" *
STANDARD_VERSION 1996 12 *
METADATA_DATE 1998 02 12 *
DATA_FILE_SIZE 154759770 *
BYTE_COUNT 20070 * * * * * * * * * * * * * * * * * * * * * * * * * * * * * * * * * * * * * * * * * * * * * * * * * * * * * * * * * * * * * * * * * * * * * * * * * * * * * * * * * * * * * * * * * * * * * * * * * * * * * * * * * * * * * * * * * * * * * * * * * * * * * * * * * * * * * * * * * * * * * * * * * * * * * * * * * * * * * * * * * * * * * * * * * * * * * * * * * * * * * * * * * * * * * * * * * * * * * * * * * * * * * *
END_USGS_HEADER *
