BEGIN_USGS_DOQ_HEADER *
QUADRANGLE_NAME "MULE WASH" *
QUADRANT NE *
NORTH_LATITUDE 33 30 00.000 *
WEST_LONGITUDE -114 33 45.000 *
SOUTH_LATITUDE 33 26 15.000 *
EAST_LONGITUDE -114 30 00.000 *
PRODUCTION_DATE 1998 02 09 *
RASTER_ORDER LEFT_RIGHT/TOP_BOTTOM *
BAND_ORGANIZATION BIP *
BAND_CONTENT RED *
BAND_CONTENT GREEN *
BAND_CONTENT BLUE *
BITS_PER_PIXEL 8 *
SAMPLES_AND_LINES 6660 7710 *
HORIZONTAL_DATUM NAD83 *
HORIZONTAL_COORDINATE_SYSTEM UTM *
COORDINATE_ZONE 11 *
HORIZONTAL_UNITS METERS *
HORIZONTAL_RESOLUTION 1.000 *
SECONDARY_HORIZONTAL_DATUM NAD27 *
XY_ORIGIN 726060.000 3709830.000 *
SECONDARY_XY_ORIGIN 726138.301 3709635.926 *
NATION US *
STATE AZ *
NW_QUAD_CORNER_XY 726435.000 3709378.617 *
NE_QUAD_CORNER_XY 732242.458 3709516.815 *
SE_QUAD_CORNER_XY 732409.367 3702584.932 *
SW_QUAD_CORNER_XY 726597.727 3702446.863 *
SECONDARY_NW_QUAD_XY 726440.033 3709185.858 *
SECONDARY_NE_QUAD_XY 732247.621 3709324.059 *
SECONDARY_SE_QUAD_XY 732414.524 3702392.383 *
SECONDARY_SW_QUAD_XY 726602.756 3702254.311 *
RMSE_XY 1.544 *
IMAGE_SOURCE "CIR FILM" *
SOURCE_IMAGE_ID "NAPP 9574 65" *
SOURCE_IMAGE_DATE 1996 09 28 *
SOURCE_DEM_DATE 1997 01 01 *
AGENCY "WESTERN MAPPING CENTER (WMC)" *
PRODUCER "ANALYTICAL SURVEYS INC." *
PRODUCTION_SYSTEM "ORBIT OR_RECTIFY V.5.2" *
STANDARD_VERSION 1996 12 *
METADATA_DATE 1998 02 10 *
DATA_FILE_SIZE 154065780 *
BYTE_COUNT 19980 * * * * * * * * * * * * * * * * * * * * * * * * * * * * * * * * * * * * * * * * * * * * * * * * * * * * * * * * * * * * * * * * * * * * * * * * * * * * * * * * * * * * * * * * * * * * * * * * * * * * * * * * * * * * * * * * * * * * * * * * * * * * * * * * * * * * * * * * * * * * * * * * * * * * * * * * * * * * * * * * * * * * * * * * * * * * * * * * * * * * * * * * * * * * * * * * * * * * * * * * * * * * *
END_USGS_HEADER *
