BEGIN_USGS_DOQ_HEADER *
QUADRANGLE_NAME "THUMB PEAK" *
QUADRANT NW *
NORTH_LATITUDE 33 30 00.000 *
WEST_LONGITUDE -114 52 30.000 *
SOUTH_LATITUDE 33 26 15.000 *
EAST_LONGITUDE -114 48 45.000 *
PRODUCTION_DATE 1998 01 30 *
RASTER_ORDER LEFT_RIGHT/TOP_BOTTOM *
BAND_ORGANIZATION BIP *
BAND_CONTENT RED *
BAND_CONTENT GREEN *
BAND_CONTENT BLUE *
BITS_PER_PIXEL 8 *
SAMPLES_AND_LINES 6660 7680 *
HORIZONTAL_DATUM NAD83 *
HORIZONTAL_COORDINATE_SYSTEM UTM *
COORDINATE_ZONE 11 *
HORIZONTAL_UNITS METERS *
HORIZONTAL_RESOLUTION 1.000 *
SECONDARY_HORIZONTAL_DATUM NAD27 *
XY_ORIGIN 697020.000 3709170.000 *
SECONDARY_XY_ORIGIN 697098.513 3708975.750 *
NATION US *
STATE CA *
NW_QUAD_CORNER_XY 697399.246 3708740.198 *
NE_QUAD_CORNER_XY 703206.201 3708860.874 *
SE_QUAD_CORNER_XY 703352.211 3701929.601 *
SW_QUAD_CORNER_XY 697541.078 3701809.037 *
SECONDARY_NW_QUAD_XY 697403.633 3708547.424 *
SECONDARY_NE_QUAD_XY 703210.717 3708668.103 *
SECONDARY_SE_QUAD_XY 703356.723 3701737.037 *
SECONDARY_SW_QUAD_XY 697545.461 3701616.471 *
RMSE_XY 1.484 *
IMAGE_SOURCE "CIR FILM" *
SOURCE_IMAGE_ID "NAPP 9562 143" *
SOURCE_IMAGE_DATE 1996 06 15 *
SOURCE_DEM_DATE 1983 01 01 *
AGENCY "WESTERN MAPPING CENTER (WMC)" *
PRODUCER "ANALYTICAL SURVEYS INC." *
PRODUCTION_SYSTEM "ORBIT OR_RECTIFY V.5.2" *
STANDARD_VERSION 1996 12 *
METADATA_DATE 1998 02 02 *
DATA_FILE_SIZE 153466380 *
BYTE_COUNT 19980 * * * * * * * * * * * * * * * * * * * * * * * * * * * * * * * * * * * * * * * * * * * * * * * * * * * * * * * * * * * * * * * * * * * * * * * * * * * * * * * * * * * * * * * * * * * * * * * * * * * * * * * * * * * * * * * * * * * * * * * * * * * * * * * * * * * * * * * * * * * * * * * * * * * * * * * * * * * * * * * * * * * * * * * * * * * * * * * * * * * * * * * * * * * * * * * * * * * * * * * * * * * * *
END_USGS_HEADER *
