BEGIN_USGS_DOQ_HEADER *
QUADRANGLE_NAME "WILEY WELL" *
QUADRANT SW *
NORTH_LATITUDE 33 26 15.000 *
WEST_LONGITUDE -115 00 00.000 *
SOUTH_LATITUDE 33 22 30.000 *
EAST_LONGITUDE -114 56 15.000 *
PRODUCTION_DATE 1998 01 27 *
RASTER_ORDER LEFT_RIGHT/TOP_BOTTOM *
BAND_ORGANIZATION BIP *
BAND_CONTENT RED *
BAND_CONTENT GREEN *
BAND_CONTENT BLUE *
BITS_PER_PIXEL 8 *
SAMPLES_AND_LINES 6660 7680 *
HORIZONTAL_DATUM NAD83 *
HORIZONTAL_COORDINATE_SYSTEM UTM *
COORDINATE_ZONE 11 *
HORIZONTAL_UNITS METERS *
HORIZONTAL_RESOLUTION 1.000 *
SECONDARY_HORIZONTAL_DATUM NAD27 *
XY_ORIGIN 685530.000 3702000.000 *
SECONDARY_XY_ORIGIN 685608.691 3701805.690 *
NATION US *
STATE CA *
NW_QUAD_CORNER_XY 685919.088 3701578.408 *
NE_QUAD_CORNER_XY 691730.038 3701691.973 *
SE_QUAD_CORNER_XY 691867.464 3694760.982 *
SW_QUAD_CORNER_XY 686052.344 3694647.524 *
SECONDARY_NW_QUAD_XY 685923.213 3701385.836 *
SECONDARY_NE_QUAD_XY 691734.292 3701499.404 *
SECONDARY_SE_QUAD_XY 691871.714 3694568.621 *
SECONDARY_SW_QUAD_XY 686056.466 3694455.160 *
RMSE_XY 2.360 *
IMAGE_SOURCE "CIR FILM" *
SOURCE_IMAGE_ID "NAPP 9563 27" *
SOURCE_IMAGE_DATE 1996 06 15 *
SOURCE_DEM_DATE 1983 01 01 *
AGENCY "WESTERN MAPPING CENTER (WMC)" *
PRODUCER "ANALYTICAL SURVEYS INC." *
PRODUCTION_SYSTEM "ORBIT OR_RECTIFY V.5.2" *
STANDARD_VERSION 1996 12 *
METADATA_DATE 1998 01 27 *
DATA_FILE_SIZE 153466380 *
BYTE_COUNT 19980 * * * * * * * * * * * * * * * * * * * * * * * * * * * * * * * * * * * * * * * * * * * * * * * * * * * * * * * * * * * * * * * * * * * * * * * * * * * * * * * * * * * * * * * * * * * * * * * * * * * * * * * * * * * * * * * * * * * * * * * * * * * * * * * * * * * * * * * * * * * * * * * * * * * * * * * * * * * * * * * * * * * * * * * * * * * * * * * * * * * * * * * * * * * * * * * * * * * * * * * * * * * * *
END_USGS_HEADER *
