BEGIN_USGS_DOQ_HEADER *
QUADRANGLE_NAME "CUNNINGHAM MOUNTAIN" *
QUADRANT SE *
NORTH_LATITUDE 33 33 45.000 *
WEST_LONGITUDE -114 18 45.000 *
SOUTH_LATITUDE 33 30 00.000 *
EAST_LONGITUDE -114 15 00.000 *
PRODUCTION_DATE 1998 02 16 *
RASTER_ORDER LEFT_RIGHT/TOP_BOTTOM *
BAND_ORGANIZATION BIP *
BAND_CONTENT RED *
BAND_CONTENT GREEN *
BAND_CONTENT BLUE *
BITS_PER_PIXEL 8 *
SAMPLES_AND_LINES 6690 7710 *
HORIZONTAL_DATUM NAD83 *
HORIZONTAL_COORDINATE_SYSTEM UTM *
COORDINATE_ZONE 11 *
HORIZONTAL_UNITS METERS *
HORIZONTAL_RESOLUTION 1.000 *
SECONDARY_HORIZONTAL_DATUM NAD27 *
XY_ORIGIN 749100.000 3717360.000 *
SECONDARY_XY_ORIGIN 749178.244 3717165.965 *
NATION US *
STATE AZ *
NW_QUAD_CORNER_XY 749485.743 3716884.789 *
NE_QUAD_CORNER_XY 755289.462 3717037.155 *
SE_QUAD_CORNER_XY 755473.405 3710104.672 *
SW_QUAD_CORNER_XY 749665.496 3709952.447 *
SECONDARY_NW_QUAD_XY 749491.299 3716691.836 *
SECONDARY_NE_QUAD_XY 755295.147 3716844.205 *
SECONDARY_SE_QUAD_XY 755479.085 3709911.928 *
SECONDARY_SW_QUAD_XY 749671.046 3709759.700 *
RMSE_XY 1.976 *
IMAGE_SOURCE "CIR FILM" *
SOURCE_IMAGE_ID "NAPP 9560 170" *
SOURCE_IMAGE_DATE 1996 06 09 *
SOURCE_IMAGE_ID "NAPP 9560 179" *
SOURCE_IMAGE_DATE 1996 06 09 *
SOURCE_DEM_DATE 1971 01 01 *
AGENCY "WESTERN MAPPING CENTER (WMC)" *
PRODUCER "ANALYTICAL SURVEYS INC." *
PRODUCTION_SYSTEM "ORBIT OR_RECTIFY V.5.2" *
STANDARD_VERSION 1996 12 *
METADATA_DATE 1998 02 16 *
DATA_FILE_SIZE 154759770 *
BYTE_COUNT 20070 * * * * * * * * * * * * * * * * * * * * * * * * * * * * * * * * * * * * * * * * * * * * * * * * * * * * * * * * * * * * * * * * * * * * * * * * * * * * * * * * * * * * * * * * * * * * * * * * * * * * * * * * * * * * * * * * * * * * * * * * * * * * * * * * * * * * * * * * * * * * * * * * * * * * * * * * * * * * * * * * * * * * * * * * * * * * * * * * * * * * * * * * * * * * * * * * * * * * * * * * * * * *
END_USGS_HEADER *
