BEGIN_USGS_DOQ_HEADER *
QUADRANGLE_NAME "CUNNINGHAM MOUNTAIN" *
QUADRANT SW *
NORTH_LATITUDE 33 33 45.000 *
WEST_LONGITUDE -114 22 30.000 *
SOUTH_LATITUDE 33 30 00.000 *
EAST_LONGITUDE -114 18 45.000 *
PRODUCTION_DATE 1998 02 16 *
RASTER_ORDER LEFT_RIGHT/TOP_BOTTOM *
BAND_ORGANIZATION BIP *
BAND_CONTENT RED *
BAND_CONTENT GREEN *
BAND_CONTENT BLUE *
BITS_PER_PIXEL 8 *
SAMPLES_AND_LINES 6690 7710 *
HORIZONTAL_DATUM NAD83 *
HORIZONTAL_COORDINATE_SYSTEM UTM *
COORDINATE_ZONE 11 *
HORIZONTAL_UNITS METERS *
HORIZONTAL_RESOLUTION 1.000 *
SECONDARY_HORIZONTAL_DATUM NAD27 *
XY_ORIGIN 743280.000 3717210.000 *
SECONDARY_XY_ORIGIN 743358.257 3717015.956 *
NATION US *
STATE AZ *
NW_QUAD_CORNER_XY 743682.141 3716735.935 *
NE_QUAD_CORNER_XY 749485.743 3716884.789 *
SE_QUAD_CORNER_XY 749665.496 3709952.447 *
SW_QUAD_CORNER_XY 743857.703 3709803.730 *
SECONDARY_NW_QUAD_XY 743687.567 3716542.978 *
SECONDARY_NE_QUAD_XY 749491.299 3716691.836 *
SECONDARY_SE_QUAD_XY 749671.046 3709759.700 *
SECONDARY_SW_QUAD_XY 743863.124 3709610.979 *
RMSE_XY 2.830 *
IMAGE_SOURCE "CIR FILM" *
SOURCE_IMAGE_ID "NAPP 9560 179" *
SOURCE_IMAGE_DATE 1996 06 09 *
SOURCE_IMAGE_ID "NAPP 9560 178" *
SOURCE_IMAGE_DATE 1996 06 09 *
SOURCE_DEM_DATE 1971 01 01 *
AGENCY "WESTERN MAPPING CENTER (WMC)" *
PRODUCER "ANALYTICAL SURVEYS INC." *
PRODUCTION_SYSTEM "ORBIT OR_RECTIFY V.5.2" *
STANDARD_VERSION 1996 12 *
METADATA_DATE 1998 02 16 *
DATA_FILE_SIZE 154759770 *
BYTE_COUNT 20070 * * * * * * * * * * * * * * * * * * * * * * * * * * * * * * * * * * * * * * * * * * * * * * * * * * * * * * * * * * * * * * * * * * * * * * * * * * * * * * * * * * * * * * * * * * * * * * * * * * * * * * * * * * * * * * * * * * * * * * * * * * * * * * * * * * * * * * * * * * * * * * * * * * * * * * * * * * * * * * * * * * * * * * * * * * * * * * * * * * * * * * * * * * * * * * * * * * * * * * * * * * * *
END_USGS_HEADER *
