BEGIN_USGS_DOQ_HEADER *
QUADRANGLE_NAME "BLYTHE" *
QUADRANT NE *
NORTH_LATITUDE 33 37 30.000 *
WEST_LONGITUDE -114 33 45.000 *
SOUTH_LATITUDE 33 33 45.000 *
EAST_LONGITUDE -114 30 00.000 *
PRODUCTION_DATE 1998 02 09 *
RASTER_ORDER LEFT_RIGHT/TOP_BOTTOM *
BAND_ORGANIZATION BIP *
BAND_CONTENT RED *
BAND_CONTENT GREEN *
BAND_CONTENT BLUE *
BITS_PER_PIXEL 8 *
SAMPLES_AND_LINES 6660 7680 *
HORIZONTAL_DATUM NAD83 *
HORIZONTAL_COORDINATE_SYSTEM UTM *
COORDINATE_ZONE 11 *
HORIZONTAL_UNITS METERS *
HORIZONTAL_RESOLUTION 1.000 *
SECONDARY_HORIZONTAL_DATUM NAD27 *
XY_ORIGIN 725730.000 3723690.000 *
SECONDARY_XY_ORIGIN 725808.331 3723495.875 *
NATION US *
STATE AZ *
STATE CA *
NW_QUAD_CORNER_XY 726108.736 3723242.299 *
NE_QUAD_CORNER_XY 731907.811 3723380.752 *
SE_QUAD_CORNER_XY 732075.273 3716448.755 *
SW_QUAD_CORNER_XY 726272.003 3716310.429 *
SECONDARY_NW_QUAD_XY 726113.779 3723049.127 *
SECONDARY_NE_QUAD_XY 731912.984 3723187.583 *
SECONDARY_SE_QUAD_XY 732080.441 3716255.792 *
SECONDARY_SW_QUAD_XY 726277.041 3716117.463 *
RMSE_XY 2.425 *
IMAGE_SOURCE "CIR FILM" *
SOURCE_IMAGE_ID "NAPP 9570 153" *
SOURCE_IMAGE_DATE 1996 06 23 *
SOURCE_DEM_DATE 1997 01 01 *
AGENCY "WESTERN MAPPING CENTER (WMC)" *
PRODUCER "ANALYTICAL SURVEYS INC." *
PRODUCTION_SYSTEM "ORBIT OR_RECTIFY V.5.2" *
STANDARD_VERSION 1996 12 *
METADATA_DATE 1998 02 09 *
DATA_FILE_SIZE 153466380 *
BYTE_COUNT 19980 * * * * * * * * * * * * * * * * * * * * * * * * * * * * * * * * * * * * * * * * * * * * * * * * * * * * * * * * * * * * * * * * * * * * * * * * * * * * * * * * * * * * * * * * * * * * * * * * * * * * * * * * * * * * * * * * * * * * * * * * * * * * * * * * * * * * * * * * * * * * * * * * * * * * * * * * * * * * * * * * * * * * * * * * * * * * * * * * * * * * * * * * * * * * * * * * * * * * * * * * * * * *
END_USGS_HEADER *
