BEGIN_USGS_DOQ_HEADER *
QUADRANGLE_NAME "RIPLEY" *
QUADRANT SE *
NORTH_LATITUDE 33 33 45.000 *
WEST_LONGITUDE -114 41 15.000 *
SOUTH_LATITUDE 33 30 00.000 *
EAST_LONGITUDE -114 37 30.000 *
PRODUCTION_DATE 1998 02 02 *
RASTER_ORDER LEFT_RIGHT/TOP_BOTTOM *
BAND_ORGANIZATION BIP *
BAND_CONTENT RED *
BAND_CONTENT GREEN *
BAND_CONTENT BLUE *
BITS_PER_PIXEL 8 *
SAMPLES_AND_LINES 6660 7680 *
HORIZONTAL_DATUM NAD83 *
HORIZONTAL_COORDINATE_SYSTEM UTM *
COORDINATE_ZONE 11 *
HORIZONTAL_UNITS METERS *
HORIZONTAL_RESOLUTION 1.000 *
SECONDARY_HORIZONTAL_DATUM NAD27 *
XY_ORIGIN 714270.000 3716490.000 *
SECONDARY_XY_ORIGIN 714348.390 3716295.829 *
NATION US *
STATE CA *
NW_QUAD_CORNER_XY 714665.775 3716044.303 *
NE_QUAD_CORNER_XY 720468.838 3716175.612 *
SE_QUAD_CORNER_XY 720627.648 3709243.925 *
SW_QUAD_CORNER_XY 714820.399 3709112.737 *
SECONDARY_NW_QUAD_XY 714670.555 3715851.331 *
SECONDARY_NE_QUAD_XY 720473.747 3715982.643 *
SECONDARY_SE_QUAD_XY 720632.552 3709051.162 *
SECONDARY_SW_QUAD_XY 714825.174 3708919.972 *
RMSE_XY 2.128 *
IMAGE_SOURCE "CIR FILM" *
SOURCE_IMAGE_ID "NAPP 9566 186" *
SOURCE_IMAGE_DATE 1996 06 16 *
SOURCE_DEM_DATE 1997 01 01 *
AGENCY "WESTERN MAPPING CENTER (WMC)" *
PRODUCER "ANALYTICAL SURVEYS INC." *
PRODUCTION_SYSTEM "ORBIT OR_RECTIFY V.5.2" *
STANDARD_VERSION 1996 12 *
METADATA_DATE 1998 02 02 *
DATA_FILE_SIZE 153466380 *
BYTE_COUNT 19980 * * * * * * * * * * * * * * * * * * * * * * * * * * * * * * * * * * * * * * * * * * * * * * * * * * * * * * * * * * * * * * * * * * * * * * * * * * * * * * * * * * * * * * * * * * * * * * * * * * * * * * * * * * * * * * * * * * * * * * * * * * * * * * * * * * * * * * * * * * * * * * * * * * * * * * * * * * * * * * * * * * * * * * * * * * * * * * * * * * * * * * * * * * * * * * * * * * * * * * * * * * * * *
END_USGS_HEADER *
