BEGIN_USGS_DOQ_HEADER *
QUADRANGLE_NAME "ROOSEVELT MINE" *
QUADRANT NE *
NORTH_LATITUDE 33 37 30.000 *
WEST_LONGITUDE -114 48 45.000 *
SOUTH_LATITUDE 33 33 45.000 *
EAST_LONGITUDE -114 45 00.000 *
PRODUCTION_DATE 1998 01 30 *
RASTER_ORDER LEFT_RIGHT/TOP_BOTTOM *
BAND_ORGANIZATION BIP *
BAND_CONTENT RED *
BAND_CONTENT GREEN *
BAND_CONTENT BLUE *
BITS_PER_PIXEL 8 *
SAMPLES_AND_LINES 6660 7680 *
HORIZONTAL_DATUM NAD83 *
HORIZONTAL_COORDINATE_SYSTEM UTM *
COORDINATE_ZONE 11 *
HORIZONTAL_UNITS METERS *
HORIZONTAL_RESOLUTION 1.000 *
SECONDARY_HORIZONTAL_DATUM NAD27 *
XY_ORIGIN 702510.000 3723150.000 *
SECONDARY_XY_ORIGIN 702588.499 3722955.750 *
NATION US *
STATE CA *
NW_QUAD_CORNER_XY 702913.454 3722723.599 *
NE_QUAD_CORNER_XY 708712.127 3722848.008 *
SE_QUAD_CORNER_XY 708862.813 3715916.501 *
SW_QUAD_CORNER_XY 703059.948 3715792.207 *
SECONDARY_NW_QUAD_XY 702917.980 3722530.416 *
SECONDARY_NE_QUAD_XY 708716.782 3722654.828 *
SECONDARY_SE_QUAD_XY 708867.464 3715723.526 *
SECONDARY_SW_QUAD_XY 703064.469 3715599.229 *
RMSE_XY 1.680 *
IMAGE_SOURCE "CIR FILM" *
SOURCE_IMAGE_ID "NAPP 9562 101" *
SOURCE_IMAGE_DATE 1996 06 15 *
SOURCE_DEM_DATE 1983 01 01 *
AGENCY "WESTERN MAPPING CENTER (WMC)" *
PRODUCER "ANALYTICAL SURVEYS INC." *
PRODUCTION_SYSTEM "ORBIT OR_RECTIFY V.5.2" *
STANDARD_VERSION 1996 12 *
METADATA_DATE 1998 01 30 *
DATA_FILE_SIZE 153466380 *
BYTE_COUNT 19980 * * * * * * * * * * * * * * * * * * * * * * * * * * * * * * * * * * * * * * * * * * * * * * * * * * * * * * * * * * * * * * * * * * * * * * * * * * * * * * * * * * * * * * * * * * * * * * * * * * * * * * * * * * * * * * * * * * * * * * * * * * * * * * * * * * * * * * * * * * * * * * * * * * * * * * * * * * * * * * * * * * * * * * * * * * * * * * * * * * * * * * * * * * * * * * * * * * * * * * * * * * * * *
END_USGS_HEADER *
