BEGIN_USGS_DOQ_HEADER *
QUADRANGLE_NAME "MIDDLE CAMP MOUNTAIN" *
QUADRANT NW *
NORTH_LATITUDE 33 45 00.000 *
WEST_LONGITUDE -114 22 30.000 *
SOUTH_LATITUDE 33 41 15.000 *
EAST_LONGITUDE -114 18 45.000 *
PRODUCTION_DATE 1998 02 10 *
RASTER_ORDER LEFT_RIGHT/TOP_BOTTOM *
BAND_ORGANIZATION BIP *
BAND_CONTENT RED *
BAND_CONTENT GREEN *
BAND_CONTENT BLUE *
BITS_PER_PIXEL 8 *
SAMPLES_AND_LINES 6660 7710 *
HORIZONTAL_DATUM NAD83 *
HORIZONTAL_COORDINATE_SYSTEM UTM *
COORDINATE_ZONE 11 *
HORIZONTAL_UNITS METERS *
HORIZONTAL_RESOLUTION 1.000 *
SECONDARY_HORIZONTAL_DATUM NAD27 *
XY_ORIGIN 742770.000 3738000.000 *
SECONDARY_XY_ORIGIN 742848.392 3737805.884 *
NATION US *
STATE AZ *
NW_QUAD_CORNER_XY 743153.712 3737532.883 *
NE_QUAD_CORNER_XY 748944.704 3737682.146 *
SE_QUAD_CORNER_XY 749125.347 3730749.639 *
SW_QUAD_CORNER_XY 743330.144 3730600.511 *
SECONDARY_NW_QUAD_XY 743159.154 3737339.311 *
SECONDARY_NE_QUAD_XY 748950.275 3737488.578 *
SECONDARY_SE_QUAD_XY 749130.913 3730556.275 *
SECONDARY_SW_QUAD_XY 743335.581 3730407.144 *
RMSE_XY 2.135 *
IMAGE_SOURCE "CIR FILM" *
SOURCE_IMAGE_ID "NAPP 9556 196" *
SOURCE_IMAGE_DATE 1996 06 07 *
SOURCE_IMAGE_ID "NAPP 9556 195" *
SOURCE_IMAGE_DATE 1996 06 07 *
SOURCE_DEM_DATE 1997 01 01 *
AGENCY "WESTERN MAPPING CENTER (WMC)" *
PRODUCER "ANALYTICAL SURVEYS INC." *
PRODUCTION_SYSTEM "ORBIT OR_RECTIFY V.5.2" *
STANDARD_VERSION 1996 12 *
METADATA_DATE 1998 02 11 *
DATA_FILE_SIZE 154065780 *
BYTE_COUNT 19980 * * * * * * * * * * * * * * * * * * * * * * * * * * * * * * * * * * * * * * * * * * * * * * * * * * * * * * * * * * * * * * * * * * * * * * * * * * * * * * * * * * * * * * * * * * * * * * * * * * * * * * * * * * * * * * * * * * * * * * * * * * * * * * * * * * * * * * * * * * * * * * * * * * * * * * * * * * * * * * * * * * * * * * * * * * * * * * * * * * * * * * * * * * * * * * * * * * * * * * * * * * *
END_USGS_HEADER *
