BEGIN_USGS_DOQ_HEADER *
QUADRANGLE_NAME "MIDDLE CAMP MOUNTAIN" *
QUADRANT SE *
NORTH_LATITUDE 33 41 15.000 *
WEST_LONGITUDE -114 18 45.000 *
SOUTH_LATITUDE 33 37 30.000 *
EAST_LONGITUDE -114 15 00.000 *
PRODUCTION_DATE 1998 02 10 *
RASTER_ORDER LEFT_RIGHT/TOP_BOTTOM *
BAND_ORGANIZATION BIP *
BAND_CONTENT RED *
BAND_CONTENT GREEN *
BAND_CONTENT BLUE *
BITS_PER_PIXEL 8 *
SAMPLES_AND_LINES 6690 7710 *
HORIZONTAL_DATUM NAD83 *
HORIZONTAL_COORDINATE_SYSTEM UTM *
COORDINATE_ZONE 11 *
HORIZONTAL_UNITS METERS *
HORIZONTAL_RESOLUTION 1.000 *
SECONDARY_HORIZONTAL_DATUM NAD27 *
XY_ORIGIN 748740.000 3731220.000 *
SECONDARY_XY_ORIGIN 748818.368 3731025.918 *
NATION US *
STATE AZ *
NW_QUAD_CORNER_XY 749125.347 3730749.639 *
NE_QUAD_CORNER_XY 754920.664 3730902.284 *
SE_QUAD_CORNER_XY 755105.215 3723969.692 *
SW_QUAD_CORNER_XY 749305.694 3723817.187 *
SECONDARY_NW_QUAD_XY 749130.913 3730556.275 *
SECONDARY_NE_QUAD_XY 754926.360 3730708.923 *
SECONDARY_SE_QUAD_XY 755110.906 3723776.537 *
SECONDARY_SW_QUAD_XY 749311.255 3723624.028 *
RMSE_XY 2.200 *
IMAGE_SOURCE "CIR FILM" *
SOURCE_IMAGE_ID "NAPP 9556 119" *
SOURCE_IMAGE_DATE 1996 06 07 *
SOURCE_DEM_DATE 1997 01 01 *
AGENCY "WESTERN MAPPING CENTER (WMC)" *
PRODUCER "ANALYTICAL SURVEYS INC." *
PRODUCTION_SYSTEM "ORBIT OR_RECTIFY V.5.2" *
STANDARD_VERSION 1996 12 *
METADATA_DATE 1998 02 10 *
DATA_FILE_SIZE 154759770 *
BYTE_COUNT 20070 * * * * * * * * * * * * * * * * * * * * * * * * * * * * * * * * * * * * * * * * * * * * * * * * * * * * * * * * * * * * * * * * * * * * * * * * * * * * * * * * * * * * * * * * * * * * * * * * * * * * * * * * * * * * * * * * * * * * * * * * * * * * * * * * * * * * * * * * * * * * * * * * * * * * * * * * * * * * * * * * * * * * * * * * * * * * * * * * * * * * * * * * * * * * * * * * * * * * * * * * * * * * * *
END_USGS_HEADER *
