BEGIN_USGS_DOQ_HEADER *
QUADRANGLE_NAME "LA PAZ MOUNTAIN" *
QUADRANT SE *
NORTH_LATITUDE 33 41 15.000 *
WEST_LONGITUDE -114 26 15.000 *
SOUTH_LATITUDE 33 37 30.000 *
EAST_LONGITUDE -114 22 30.000 *
PRODUCTION_DATE 1998 02 09 *
RASTER_ORDER LEFT_RIGHT/TOP_BOTTOM *
BAND_ORGANIZATION BIP *
BAND_CONTENT RED *
BAND_CONTENT GREEN *
BAND_CONTENT BLUE *
BITS_PER_PIXEL 8 *
SAMPLES_AND_LINES 6660 7710 *
HORIZONTAL_DATUM NAD83 *
HORIZONTAL_COORDINATE_SYSTEM UTM *
COORDINATE_ZONE 11 *
HORIZONTAL_UNITS METERS *
HORIZONTAL_RESOLUTION 1.000 *
SECONDARY_HORIZONTAL_DATUM NAD27 *
XY_ORIGIN 737160.000 3730920.000 *
SECONDARY_XY_ORIGIN 737238.327 3730725.896 *
NATION US *
STATE AZ *
NW_QUAD_CORNER_XY 737535.054 3730454.900 *
NE_QUAD_CORNER_XY 743330.144 3730600.511 *
SE_QUAD_CORNER_XY 743506.288 3723668.195 *
SW_QUAD_CORNER_XY 737706.994 3723522.717 *
SECONDARY_NW_QUAD_XY 737540.361 3730261.529 *
SECONDARY_NE_QUAD_XY 743335.581 3730407.144 *
SECONDARY_SE_QUAD_XY 743511.719 3723475.033 *
SECONDARY_SW_QUAD_XY 737712.296 3723329.551 *
RMSE_XY 2.739 *
IMAGE_SOURCE "CIR FILM" *
SOURCE_IMAGE_ID "NAPP 9556 204" *
SOURCE_IMAGE_DATE 1996 06 07 *
SOURCE_DEM_DATE 1970 01 01 *
AGENCY "WESTERN MAPPING CENTER (WMC)" *
PRODUCER "ANALYTICAL SURVEYS INC." *
PRODUCTION_SYSTEM "ORBIT OR_RECTIFY V.5.2" *
STANDARD_VERSION 1996 12 *
METADATA_DATE 1998 02 09 *
DATA_FILE_SIZE 154065780 *
BYTE_COUNT 19980 * * * * * * * * * * * * * * * * * * * * * * * * * * * * * * * * * * * * * * * * * * * * * * * * * * * * * * * * * * * * * * * * * * * * * * * * * * * * * * * * * * * * * * * * * * * * * * * * * * * * * * * * * * * * * * * * * * * * * * * * * * * * * * * * * * * * * * * * * * * * * * * * * * * * * * * * * * * * * * * * * * * * * * * * * * * * * * * * * * * * * * * * * * * * * * * * * * * * * * * * * * * * *
END_USGS_HEADER *
