BEGIN_USGS_DOQ_HEADER *
QUADRANGLE_NAME "BLYTHE NE" *
QUADRANT NW *
NORTH_LATITUDE 33 45 00.000 *
WEST_LONGITUDE -114 37 30.000 *
SOUTH_LATITUDE 33 41 15.000 *
EAST_LONGITUDE -114 33 45.000 *
PRODUCTION_DATE 1998 02 05 *
RASTER_ORDER LEFT_RIGHT/TOP_BOTTOM *
BAND_ORGANIZATION BIP *
BAND_CONTENT RED *
BAND_CONTENT GREEN *
BAND_CONTENT BLUE *
BITS_PER_PIXEL 8 *
SAMPLES_AND_LINES 6660 7710 *
HORIZONTAL_DATUM NAD83 *
HORIZONTAL_COORDINATE_SYSTEM UTM *
COORDINATE_ZONE 11 *
HORIZONTAL_UNITS METERS *
HORIZONTAL_RESOLUTION 1.000 *
SECONDARY_HORIZONTAL_DATUM NAD27 *
XY_ORIGIN 719610.000 3737430.000 *
SECONDARY_XY_ORIGIN 719688.406 3737235.801 *
NATION US *
STATE CA *
NW_QUAD_CORNER_XY 719990.832 3736971.022 *
NE_QUAD_CORNER_XY 725781.394 3737106.210 *
SE_QUAD_CORNER_XY 725945.199 3730174.225 *
SW_QUAD_CORNER_XY 720150.429 3730039.161 *
SECONDARY_NW_QUAD_XY 719995.755 3736777.438 *
SECONDARY_NE_QUAD_XY 725786.447 3736912.628 *
SECONDARY_SE_QUAD_XY 725950.247 3729980.848 *
SECONDARY_SW_QUAD_XY 720155.348 3729845.781 *
RMSE_XY 1.493 *
IMAGE_SOURCE "CIR FILM" *
SOURCE_IMAGE_ID "NAPP 9557 175" *
SOURCE_IMAGE_DATE 1996 06 07 *
SOURCE_DEM_DATE 1970 01 01 *
AGENCY "WESTERN MAPPING CENTER (WMC)" *
PRODUCER "ANALYTICAL SURVEYS INC." *
PRODUCTION_SYSTEM "ORBIT OR_RECTIFY V.5.2" *
STANDARD_VERSION 1996 12 *
METADATA_DATE 1998 02 06 *
DATA_FILE_SIZE 154065780 *
BYTE_COUNT 19980 * * * * * * * * * * * * * * * * * * * * * * * * * * * * * * * * * * * * * * * * * * * * * * * * * * * * * * * * * * * * * * * * * * * * * * * * * * * * * * * * * * * * * * * * * * * * * * * * * * * * * * * * * * * * * * * * * * * * * * * * * * * * * * * * * * * * * * * * * * * * * * * * * * * * * * * * * * * * * * * * * * * * * * * * * * * * * * * * * * * * * * * * * * * * * * * * * * * * * * * * * * * * *
END_USGS_HEADER *
