BEGIN_USGS_DOQ_HEADER *
QUADRANGLE_NAME "MCCOY WASH" *
QUADRANT SE *
NORTH_LATITUDE 33 41 15.000 *
WEST_LONGITUDE -114 41 15.000 *
SOUTH_LATITUDE 33 37 30.000 *
EAST_LONGITUDE -114 37 30.000 *
PRODUCTION_DATE 1998 02 03 *
RASTER_ORDER LEFT_RIGHT/TOP_BOTTOM *
BAND_ORGANIZATION BIP *
BAND_CONTENT RED *
BAND_CONTENT GREEN *
BAND_CONTENT BLUE *
BITS_PER_PIXEL 8 *
SAMPLES_AND_LINES 6660 7680 *
HORIZONTAL_DATUM NAD83 *
HORIZONTAL_COORDINATE_SYSTEM UTM *
COORDINATE_ZONE 11 *
HORIZONTAL_UNITS METERS *
HORIZONTAL_RESOLUTION 1.000 *
SECONDARY_HORIZONTAL_DATUM NAD27 *
XY_ORIGIN 713970.000 3730350.000 *
SECONDARY_XY_ORIGIN 714048.431 3730155.790 *
NATION US *
STATE CA *
NW_QUAD_CORNER_XY 714355.761 3729907.611 *
NE_QUAD_CORNER_XY 720150.429 3730039.161 *
SE_QUAD_CORNER_XY 720309.765 3723107.357 *
SW_QUAD_CORNER_XY 714510.896 3722975.927 *
SECONDARY_NW_QUAD_XY 714360.550 3729714.228 *
SECONDARY_NE_QUAD_XY 720155.348 3729845.781 *
SECONDARY_SE_QUAD_XY 720314.678 3722914.182 *
SECONDARY_SW_QUAD_XY 714515.680 3722782.750 *
RMSE_XY 1.512 *
IMAGE_SOURCE "CIR FILM" *
SOURCE_IMAGE_ID "NAPP 9557 182" *
SOURCE_IMAGE_DATE 1996 06 07 *
SOURCE_DEM_DATE 1997 01 01 *
AGENCY "WESTERN MAPPING CENTER (WMC)" *
PRODUCER "ANALYTICAL SURVEYS INC." *
PRODUCTION_SYSTEM "ORBIT OR_RECTIFY V.5.2" *
STANDARD_VERSION 1996 12 *
METADATA_DATE 1998 02 03 *
DATA_FILE_SIZE 153466380 *
BYTE_COUNT 19980 * * * * * * * * * * * * * * * * * * * * * * * * * * * * * * * * * * * * * * * * * * * * * * * * * * * * * * * * * * * * * * * * * * * * * * * * * * * * * * * * * * * * * * * * * * * * * * * * * * * * * * * * * * * * * * * * * * * * * * * * * * * * * * * * * * * * * * * * * * * * * * * * * * * * * * * * * * * * * * * * * * * * * * * * * * * * * * * * * * * * * * * * * * * * * * * * * * * * * * * * * * * * *
END_USGS_HEADER *
