BEGIN_USGS_DOQ_HEADER *
QUADRANGLE_NAME "MCCOY PEAK" *
QUADRANT NE *
NORTH_LATITUDE 33 45 00.000 *
WEST_LONGITUDE -114 48 45.000 *
SOUTH_LATITUDE 33 41 15.000 *
EAST_LONGITUDE -114 45 00.000 *
PRODUCTION_DATE 1998 01 30 *
RASTER_ORDER LEFT_RIGHT/TOP_BOTTOM *
BAND_ORGANIZATION BIP *
BAND_CONTENT RED *
BAND_CONTENT GREEN *
BAND_CONTENT BLUE *
BITS_PER_PIXEL 8 *
SAMPLES_AND_LINES 6630 7710 *
HORIZONTAL_DATUM NAD83 *
HORIZONTAL_COORDINATE_SYSTEM UTM *
COORDINATE_ZONE 11 *
HORIZONTAL_UNITS METERS *
HORIZONTAL_RESOLUTION 1.000 *
SECONDARY_HORIZONTAL_DATUM NAD27 *
XY_ORIGIN 702240.000 3737040.000 *
SECONDARY_XY_ORIGIN 702318.536 3736845.724 *
NATION US *
STATE CA *
NW_QUAD_CORNER_XY 702619.741 3736586.565 *
NE_QUAD_CORNER_XY 708410.008 3736711.200 *
SE_QUAD_CORNER_XY 708561.192 3729779.575 *
SW_QUAD_CORNER_XY 702766.718 3729655.052 *
SECONDARY_NW_QUAD_XY 702624.275 3736392.972 *
SECONDARY_NE_QUAD_XY 708414.672 3736517.610 *
SECONDARY_SE_QUAD_XY 708565.851 3729586.189 *
SECONDARY_SW_QUAD_XY 702771.248 3729461.663 *
RMSE_XY 1.155 *
IMAGE_SOURCE "CIR FILM" *
SOURCE_IMAGE_ID "NAPP 9562 105" *
SOURCE_IMAGE_DATE 1996 06 15 *
SOURCE_DEM_DATE 1983 01 01 *
AGENCY "WESTERN MAPPING CENTER (WMC)" *
PRODUCER "ANALYTICAL SURVEYS INC." *
PRODUCTION_SYSTEM "ORBIT OR_RECTIFY V.5.2" *
STANDARD_VERSION 1996 12 *
METADATA_DATE 1998 01 30 *
DATA_FILE_SIZE 153371790 *
BYTE_COUNT 19890 * * * * * * * * * * * * * * * * * * * * * * * * * * * * * * * * * * * * * * * * * * * * * * * * * * * * * * * * * * * * * * * * * * * * * * * * * * * * * * * * * * * * * * * * * * * * * * * * * * * * * * * * * * * * * * * * * * * * * * * * * * * * * * * * * * * * * * * * * * * * * * * * * * * * * * * * * * * * * * * * * * * * * * * * * * * * * * * * * * * * * * * * * * * * * * * * * * * * * * * * * * * *
END_USGS_HEADER *
