BEGIN_USGS_DOQ_HEADER *
QUADRANGLE_NAME "MCCOY SPRING" *
QUADRANT NE *
NORTH_LATITUDE 33 45 00.000 *
WEST_LONGITUDE -114 56 15.000 *
SOUTH_LATITUDE 33 41 15.000 *
EAST_LONGITUDE -114 52 30.000 *
PRODUCTION_DATE 1998 01 26 *
RASTER_ORDER LEFT_RIGHT/TOP_BOTTOM *
BAND_ORGANIZATION BIP *
BAND_CONTENT RED *
BAND_CONTENT GREEN *
BAND_CONTENT BLUE *
BITS_PER_PIXEL 8 *
SAMPLES_AND_LINES 6630 7680 *
HORIZONTAL_DATUM NAD83 *
HORIZONTAL_COORDINATE_SYSTEM UTM *
COORDINATE_ZONE 11 *
HORIZONTAL_UNITS METERS *
HORIZONTAL_RESOLUTION 1.000 *
SECONDARY_HORIZONTAL_DATUM NAD27 *
XY_ORIGIN 690660.000 3736770.000 *
SECONDARY_XY_ORIGIN 690738.610 3736575.686 *
NATION US *
STATE CA *
NW_QUAD_CORNER_XY 691039.483 3736347.841 *
NE_QUAD_CORNER_XY 696829.567 3736465.445 *
SE_QUAD_CORNER_XY 696972.339 3729534.042 *
SW_QUAD_CORNER_XY 691178.050 3729416.545 *
SECONDARY_NW_QUAD_XY 691043.757 3736154.243 *
SECONDARY_NE_QUAD_XY 696833.971 3736271.850 *
SECONDARY_SE_QUAD_XY 696976.739 3729340.651 *
SECONDARY_SW_QUAD_XY 691182.320 3729223.152 *
RMSE_XY 0.907 *
IMAGE_SOURCE "CIR FILM" *
SOURCE_IMAGE_ID "NAPP 9562 212" *
SOURCE_IMAGE_DATE 1996 06 15 *
SOURCE_DEM_DATE 1983 01 01 *
AGENCY "WESTERN MAPPING CENTER (WMC)" *
PRODUCER "ANALYTICAL SURVEYS INC." *
PRODUCTION_SYSTEM "ORBIT OR_RECTIFY V.5.2" *
STANDARD_VERSION 1996 12 *
METADATA_DATE 1998 01 26 *
DATA_FILE_SIZE 152775090 *
BYTE_COUNT 19890 * * * * * * * * * * * * * * * * * * * * * * * * * * * * * * * * * * * * * * * * * * * * * * * * * * * * * * * * * * * * * * * * * * * * * * * * * * * * * * * * * * * * * * * * * * * * * * * * * * * * * * * * * * * * * * * * * * * * * * * * * * * * * * * * * * * * * * * * * * * * * * * * * * * * * * * * * * * * * * * * * * * * * * * * * * * * * * * * * * * * * * * * * * * * * * * * * * * * * * * * * * * *
END_USGS_HEADER *
