BEGIN_USGS_DOQ_HEADER *
QUADRANGLE_NAME "MOON MOUNTAIN" *
QUADRANT NE *
NORTH_LATITUDE 33 52 30.000 *
WEST_LONGITUDE -114 26 15.000 *
SOUTH_LATITUDE 33 48 45.000 *
EAST_LONGITUDE -114 22 30.000 *
PRODUCTION_DATE 1998 02 06 *
RASTER_ORDER LEFT_RIGHT/TOP_BOTTOM *
BAND_ORGANIZATION BIP *
BAND_CONTENT RED *
BAND_CONTENT GREEN *
BAND_CONTENT BLUE *
BITS_PER_PIXEL 8 *
SAMPLES_AND_LINES 6660 7710 *
HORIZONTAL_DATUM NAD83 *
HORIZONTAL_COORDINATE_SYSTEM UTM *
COORDINATE_ZONE 11 *
HORIZONTAL_UNITS METERS *
HORIZONTAL_RESOLUTION 1.000 *
SECONDARY_HORIZONTAL_DATUM NAD27 *
XY_ORIGIN 736620.000 3751710.000 *
SECONDARY_XY_ORIGIN 736698.262 3751515.696 *
NATION US *
STATE AZ *
NW_QUAD_CORNER_XY 737017.537 3751251.786 *
NE_QUAD_CORNER_XY 742799.977 3751397.792 *
SE_QUAD_CORNER_XY 742976.989 3744465.310 *
SW_QUAD_CORNER_XY 737190.325 3744319.435 *
SECONDARY_NW_QUAD_XY 737022.859 3751057.806 *
SECONDARY_NE_QUAD_XY 742805.429 3751203.815 *
SECONDARY_SE_QUAD_XY 742982.436 3744271.535 *
SECONDARY_SW_QUAD_XY 737195.642 3744125.656 *
RMSE_XY 4.222 *
IMAGE_SOURCE "CIR FILM" *
SOURCE_IMAGE_ID "NAPP 9556 210" *
SOURCE_IMAGE_DATE 1996 06 07 *
SOURCE_DEM_DATE 1997 01 01 *
AGENCY "WESTERN MAPPING CENTER (WMC)" *
PRODUCER "ANALYTICAL SURVEYS INC." *
PRODUCTION_SYSTEM "ORBIT OR_RECTIFY V.5.2" *
STANDARD_VERSION 1996 12 *
METADATA_DATE 1998 02 08 *
DATA_FILE_SIZE 154065780 *
BYTE_COUNT 19980 * * * * * * * * * * * * * * * * * * * * * * * * * * * * * * * * * * * * * * * * * * * * * * * * * * * * * * * * * * * * * * * * * * * * * * * * * * * * * * * * * * * * * * * * * * * * * * * * * * * * * * * * * * * * * * * * * * * * * * * * * * * * * * * * * * * * * * * * * * * * * * * * * * * * * * * * * * * * * * * * * * * * * * * * * * * * * * * * * * * * * * * * * * * * * * * * * * * * * * * * * * * * *
END_USGS_HEADER *
