BEGIN_USGS_DOQ_HEADER *
QUADRANGLE_NAME "BIG MARIA MOUNTAINS SE" *
QUADRANT SE *
NORTH_LATITUDE 33 48 45.000 *
WEST_LONGITUDE -114 33 45.000 *
SOUTH_LATITUDE 33 45 00.000 *
EAST_LONGITUDE -114 30 00.000 *
PRODUCTION_DATE 1998 02 06 *
RASTER_ORDER LEFT_RIGHT/TOP_BOTTOM *
BAND_ORGANIZATION BIP *
BAND_CONTENT RED *
BAND_CONTENT GREEN *
BAND_CONTENT BLUE *
BITS_PER_PIXEL 8 *
SAMPLES_AND_LINES 6660 7680 *
HORIZONTAL_DATUM NAD83 *
HORIZONTAL_COORDINATE_SYSTEM UTM *
COORDINATE_ZONE 11 *
HORIZONTAL_UNITS METERS *
HORIZONTAL_RESOLUTION 1.000 *
SECONDARY_HORIZONTAL_DATUM NAD27 *
XY_ORIGIN 725220.000 3744480.000 *
SECONDARY_XY_ORIGIN 725298.350 3744285.751 *
NATION US *
STATE CA *
STATE AZ *
NW_QUAD_CORNER_XY 725617.319 3744038.252 *
NE_QUAD_CORNER_XY 731403.769 3744177.082 *
SE_QUAD_CORNER_XY 731572.059 3737244.915 *
SW_QUAD_CORNER_XY 725781.394 3737106.210 *
SECONDARY_NW_QUAD_XY 725622.377 3743844.467 *
SECONDARY_NE_QUAD_XY 731408.957 3743983.301 *
SECONDARY_SE_QUAD_XY 731577.242 3737051.337 *
SECONDARY_SW_QUAD_XY 725786.447 3736912.628 *
RMSE_XY 1.231 *
IMAGE_SOURCE "CIR FILM" *
SOURCE_IMAGE_ID "NAPP 9557 93" *
SOURCE_IMAGE_DATE 1996 06 07 *
SOURCE_DEM_DATE 1975 01 01 *
AGENCY "WESTERN MAPPING CENTER (WMC)" *
PRODUCER "ANALYTICAL SURVEYS INC." *
PRODUCTION_SYSTEM "ORBIT OR_RECTIFY V.5.2" *
STANDARD_VERSION 1996 12 *
METADATA_DATE 1998 02 08 *
DATA_FILE_SIZE 153466380 *
BYTE_COUNT 19980 * * * * * * * * * * * * * * * * * * * * * * * * * * * * * * * * * * * * * * * * * * * * * * * * * * * * * * * * * * * * * * * * * * * * * * * * * * * * * * * * * * * * * * * * * * * * * * * * * * * * * * * * * * * * * * * * * * * * * * * * * * * * * * * * * * * * * * * * * * * * * * * * * * * * * * * * * * * * * * * * * * * * * * * * * * * * * * * * * * * * * * * * * * * * * * * * * * * * * * * * * * * *
END_USGS_HEADER *
