BEGIN_USGS_DOQ_HEADER *
QUADRANGLE_NAME "BIG MARIA MOUNTAINS SW" *
QUADRANT SW *
NORTH_LATITUDE 33 48 45.000 *
WEST_LONGITUDE -114 45 00.000 *
SOUTH_LATITUDE 33 45 00.000 *
EAST_LONGITUDE -114 41 15.000 *
PRODUCTION_DATE 1998 02 04 *
RASTER_ORDER LEFT_RIGHT/TOP_BOTTOM *
BAND_ORGANIZATION BIP *
BAND_CONTENT RED *
BAND_CONTENT GREEN *
BAND_CONTENT BLUE *
BITS_PER_PIXEL 8 *
SAMPLES_AND_LINES 6630 7680 *
HORIZONTAL_DATUM NAD83 *
HORIZONTAL_COORDINATE_SYSTEM UTM *
COORDINATE_ZONE 11 *
HORIZONTAL_UNITS METERS *
HORIZONTAL_RESOLUTION 1.000 *
SECONDARY_HORIZONTAL_DATUM NAD27 *
XY_ORIGIN 707880.000 3744090.000 *
SECONDARY_XY_ORIGIN 707958.507 3743895.671 *
NATION US *
STATE CA *
NW_QUAD_CORNER_XY 708258.576 3743642.886 *
NE_QUAD_CORNER_XY 714044.725 3743771.154 *
SE_QUAD_CORNER_XY 714200.371 3736839.353 *
SW_QUAD_CORNER_XY 708410.008 3736711.200 *
SECONDARY_NW_QUAD_XY 708263.244 3743449.092 *
SECONDARY_NE_QUAD_XY 714049.523 3743577.363 *
SECONDARY_SE_QUAD_XY 714205.164 3736645.766 *
SECONDARY_SW_QUAD_XY 708414.672 3736517.610 *
RMSE_XY 2.840 *
IMAGE_SOURCE "CIR FILM" *
SOURCE_IMAGE_ID "NAPP 9562 18" *
SOURCE_IMAGE_DATE 1996 06 15 *
SOURCE_DEM_DATE 1997 01 01 *
AGENCY "WESTERN MAPPING CENTER (WMC)" *
PRODUCER "ANALYTICAL SURVEYS INC." *
PRODUCTION_SYSTEM "ORBIT OR_RECTIFY V.5.2" *
STANDARD_VERSION 1996 12 *
METADATA_DATE 1998 02 04 *
DATA_FILE_SIZE 152775090 *
BYTE_COUNT 19890 * * * * * * * * * * * * * * * * * * * * * * * * * * * * * * * * * * * * * * * * * * * * * * * * * * * * * * * * * * * * * * * * * * * * * * * * * * * * * * * * * * * * * * * * * * * * * * * * * * * * * * * * * * * * * * * * * * * * * * * * * * * * * * * * * * * * * * * * * * * * * * * * * * * * * * * * * * * * * * * * * * * * * * * * * * * * * * * * * * * * * * * * * * * * * * * * * * * * * * * * * * * *
END_USGS_HEADER *
