BEGIN_USGS_DOQ_HEADER *
QUADRANGLE_NAME "ARLINGTON MINE" *
QUADRANT NE *
NORTH_LATITUDE 33 52 30.000 *
WEST_LONGITUDE -114 56 15.000 *
SOUTH_LATITUDE 33 48 45.000 *
EAST_LONGITUDE -114 52 30.000 *
PRODUCTION_DATE 1998 01 28 *
RASTER_ORDER LEFT_RIGHT/TOP_BOTTOM *
BAND_ORGANIZATION BIP *
BAND_CONTENT RED *
BAND_CONTENT GREEN *
BAND_CONTENT BLUE *
BITS_PER_PIXEL 8 *
SAMPLES_AND_LINES 6630 7680 *
HORIZONTAL_DATUM NAD83 *
HORIZONTAL_COORDINATE_SYSTEM UTM *
COORDINATE_ZONE 11 *
HORIZONTAL_UNITS METERS *
HORIZONTAL_RESOLUTION 1.000 *
SECONDARY_HORIZONTAL_DATUM NAD27 *
XY_ORIGIN 690360.000 3750630.000 *
SECONDARY_XY_ORIGIN 690438.659 3750435.559 *
NATION US *
STATE CA *
NW_QUAD_CORNER_XY 690761.666 3750210.617 *
NE_QUAD_CORNER_XY 696543.319 3750328.432 *
SE_QUAD_CORNER_XY 696686.560 3743396.908 *
SW_QUAD_CORNER_XY 690900.688 3743279.198 *
SECONDARY_NW_QUAD_XY 690765.949 3750016.612 *
SECONDARY_NE_QUAD_XY 696547.732 3750134.430 *
SECONDARY_SE_QUAD_XY 696690.969 3743203.109 *
SECONDARY_SW_QUAD_XY 690904.967 3743085.397 *
RMSE_XY 2.178 *
IMAGE_SOURCE "CIR FILM" *
SOURCE_IMAGE_ID "NAPP 9562 216" *
SOURCE_IMAGE_DATE 1996 06 15 *
SOURCE_DEM_DATE 1977 01 01 *
AGENCY "WESTERN MAPPING CENTER (WMC)" *
PRODUCER "ANALYTICAL SURVEYS INC." *
PRODUCTION_SYSTEM "ORBIT OR_RECTIFY V.5.2" *
STANDARD_VERSION 1996 12 *
METADATA_DATE 1998 01 28 *
DATA_FILE_SIZE 152775090 *
BYTE_COUNT 19890 * * * * * * * * * * * * * * * * * * * * * * * * * * * * * * * * * * * * * * * * * * * * * * * * * * * * * * * * * * * * * * * * * * * * * * * * * * * * * * * * * * * * * * * * * * * * * * * * * * * * * * * * * * * * * * * * * * * * * * * * * * * * * * * * * * * * * * * * * * * * * * * * * * * * * * * * * * * * * * * * * * * * * * * * * * * * * * * * * * * * * * * * * * * * * * * * * * * * * * * * * * * *
END_USGS_HEADER *
