BEGIN_USGS_DOQ_HEADER *
QUADRANGLE_NAME "MOON MOUNTAIN NE" *
QUADRANT NE *
NORTH_LATITUDE 34 00 00.000 *
WEST_LONGITUDE -114 18 45.000 *
SOUTH_LATITUDE 33 56 15.000 *
EAST_LONGITUDE -114 15 00.000 *
PRODUCTION_DATE 1998 02 11 *
RASTER_ORDER LEFT_RIGHT/TOP_BOTTOM *
BAND_ORGANIZATION BIP *
BAND_CONTENT RED *
BAND_CONTENT GREEN *
BAND_CONTENT BLUE *
BITS_PER_PIXEL 8 *
SAMPLES_AND_LINES 6660 7710 *
HORIZONTAL_DATUM NAD83 *
HORIZONTAL_COORDINATE_SYSTEM UTM *
COORDINATE_ZONE 11 *
HORIZONTAL_UNITS METERS *
HORIZONTAL_RESOLUTION 1.000 *
SECONDARY_HORIZONTAL_DATUM NAD27 *
XY_ORIGIN 747840.000 3765870.000 *
SECONDARY_XY_ORIGIN 747918.068 3765675.493 *
NATION US *
STATE AZ *
NW_QUAD_CORNER_XY 748219.166 3765412.722 *
NE_QUAD_CORNER_XY 753993.359 3765566.053 *
SE_QUAD_CORNER_XY 754179.426 3758633.191 *
SW_QUAD_CORNER_XY 748400.995 3758479.996 *
SECONDARY_NW_QUAD_XY 748224.759 3765218.345 *
SECONDARY_NE_QUAD_XY 753999.082 3765371.679 *
SECONDARY_SE_QUAD_XY 754185.144 3758439.018 *
SECONDARY_SW_QUAD_XY 748406.582 3758285.820 *
RMSE_XY 2.753 *
IMAGE_SOURCE "CIR FILM" *
SOURCE_IMAGE_ID "NAPP 9556 128" *
SOURCE_IMAGE_DATE 1996 06 07 *
SOURCE_IMAGE_ID "NAPP 9556 130" *
SOURCE_IMAGE_DATE 1996 06 07 *
SOURCE_DEM_DATE 1997 01 01 *
AGENCY "WESTERN MAPPING CENTER (WMC)" *
PRODUCER "ANALYTICAL SURVEYS INC." *
PRODUCTION_SYSTEM "ORBIT OR_RECTIFY V.5.2" *
STANDARD_VERSION 1996 12 *
METADATA_DATE 1998 02 11 *
DATA_FILE_SIZE 154065780 *
BYTE_COUNT 19980 * * * * * * * * * * * * * * * * * * * * * * * * * * * * * * * * * * * * * * * * * * * * * * * * * * * * * * * * * * * * * * * * * * * * * * * * * * * * * * * * * * * * * * * * * * * * * * * * * * * * * * * * * * * * * * * * * * * * * * * * * * * * * * * * * * * * * * * * * * * * * * * * * * * * * * * * * * * * * * * * * * * * * * * * * * * * * * * * * * * * * * * * * * * * * * * * * * * * * * * * * * *
END_USGS_HEADER *
