BEGIN_USGS_DOQ_HEADER *
QUADRANGLE_NAME "POSTON" *
QUADRANT SE *
NORTH_LATITUDE 33 56 15.000 *
WEST_LONGITUDE -114 26 15.000 *
SOUTH_LATITUDE 33 52 30.000 *
EAST_LONGITUDE -114 22 30.000 *
PRODUCTION_DATE 1998 02 06 *
RASTER_ORDER LEFT_RIGHT/TOP_BOTTOM *
BAND_ORGANIZATION BIP *
BAND_CONTENT RED *
BAND_CONTENT GREEN *
BAND_CONTENT BLUE *
BITS_PER_PIXEL 8 *
SAMPLES_AND_LINES 6630 7710 *
HORIZONTAL_DATUM NAD83 *
HORIZONTAL_COORDINATE_SYSTEM UTM *
COORDINATE_ZONE 11 *
HORIZONTAL_UNITS METERS *
HORIZONTAL_RESOLUTION 1.000 *
SECONDARY_HORIZONTAL_DATUM NAD27 *
XY_ORIGIN 736470.000 3758640.000 *
SECONDARY_XY_ORIGIN 736548.225 3758445.612 *
NATION US *
STATE AZ *
NW_QUAD_CORNER_XY 736844.466 3758184.195 *
NE_QUAD_CORNER_XY 742622.675 3758330.331 *
SE_QUAD_CORNER_XY 742799.977 3751397.792 *
SW_QUAD_CORNER_XY 737017.537 3751251.786 *
SECONDARY_NW_QUAD_XY 736849.793 3757990.012 *
SECONDARY_NE_QUAD_XY 742628.133 3758136.151 *
SECONDARY_SE_QUAD_XY 742805.429 3751203.815 *
SECONDARY_SW_QUAD_XY 737022.859 3751057.806 *
RMSE_XY 1.329 *
IMAGE_SOURCE "CIR FILM" *
SOURCE_IMAGE_ID "NAPP 9556 212" *
SOURCE_IMAGE_DATE 1996 06 07 *
SOURCE_DEM_DATE 1997 01 01 *
AGENCY "WESTERN MAPPING CENTER (WMC)" *
PRODUCER "ANALYTICAL SURVEYS INC." *
PRODUCTION_SYSTEM "ORBIT OR_RECTIFY V.5.2" *
STANDARD_VERSION 1996 12 *
METADATA_DATE 1998 02 07 *
DATA_FILE_SIZE 153371790 *
BYTE_COUNT 19890 * * * * * * * * * * * * * * * * * * * * * * * * * * * * * * * * * * * * * * * * * * * * * * * * * * * * * * * * * * * * * * * * * * * * * * * * * * * * * * * * * * * * * * * * * * * * * * * * * * * * * * * * * * * * * * * * * * * * * * * * * * * * * * * * * * * * * * * * * * * * * * * * * * * * * * * * * * * * * * * * * * * * * * * * * * * * * * * * * * * * * * * * * * * * * * * * * * * * * * * * * * * *
END_USGS_HEADER *
