BEGIN_USGS_DOQ_HEADER *
QUADRANGLE_NAME "BIG MARIA MOUNTAINS NW" *
QUADRANT NE *
NORTH_LATITUDE 34 00 00.000 *
WEST_LONGITUDE -114 41 15.000 *
SOUTH_LATITUDE 33 56 15.000 *
EAST_LONGITUDE -114 37 30.000 *
PRODUCTION_DATE 1998 02 04 *
RASTER_ORDER LEFT_RIGHT/TOP_BOTTOM *
BAND_ORGANIZATION BIP *
BAND_CONTENT RED *
BAND_CONTENT GREEN *
BAND_CONTENT BLUE *
BITS_PER_PIXEL 8 *
SAMPLES_AND_LINES 6630 7680 *
HORIZONTAL_DATUM NAD83 *
HORIZONTAL_COORDINATE_SYSTEM UTM *
COORDINATE_ZONE 11 *
HORIZONTAL_UNITS METERS *
HORIZONTAL_RESOLUTION 1.000 *
SECONDARY_HORIZONTAL_DATUM NAD27 *
XY_ORIGIN 713190.000 3765000.000 *
SECONDARY_XY_ORIGIN 713268.469 3764805.491 *
NATION US *
STATE CA *
NW_QUAD_CORNER_XY 713576.259 3764566.910 *
NE_QUAD_CORNER_XY 719349.822 3764699.052 *
SE_QUAD_CORNER_XY 719510.467 3757766.957 *
SW_QUAD_CORNER_XY 713732.669 3757634.932 *
SECONDARY_NW_QUAD_XY 713581.071 3764372.514 *
SECONDARY_NE_QUAD_XY 719354.764 3764504.658 *
SECONDARY_SE_QUAD_XY 719515.404 3757572.765 *
SECONDARY_SW_QUAD_XY 713737.476 3757440.737 *
RMSE_XY 1.241 *
IMAGE_SOURCE "CIR FILM" *
SOURCE_IMAGE_ID "NAPP 9557 192" *
SOURCE_IMAGE_DATE 1996 06 07 *
SOURCE_DEM_DATE 1997 01 01 *
AGENCY "WESTERN MAPPING CENTER (WMC)" *
PRODUCER "ANALYTICAL SURVEYS INC." *
PRODUCTION_SYSTEM "ORBIT OR_RECTIFY V.5.2" *
STANDARD_VERSION 1996 12 *
METADATA_DATE 1998 05 19 *
DATA_FILE_SIZE 152775090 *
BYTE_COUNT 19890 * * * * * * * * * * * * * * * * * * * * * * * * * * * * * * * * * * * * * * * * * * * * * * * * * * * * * * * * * * * * * * * * * * * * * * * * * * * * * * * * * * * * * * * * * * * * * * * * * * * * * * * * * * * * * * * * * * * * * * * * * * * * * * * * * * * * * * * * * * * * * * * * * * * * * * * * * * * * * * * * * * * * * * * * * * * * * * * * * * * * * * * * * * * * * * * * * * * * * * * * * * * *
END_USGS_HEADER *
