BEGIN_USGS_DOQ_HEADER *
QUADRANGLE_NAME "BIG MARIA MOUNTAINS NW" *
QUADRANT NW *
NORTH_LATITUDE 34 00 00.000 *
WEST_LONGITUDE -114 45 00.000 *
SOUTH_LATITUDE 33 56 15.000 *
EAST_LONGITUDE -114 41 15.000 *
PRODUCTION_DATE 1998 02 04 *
RASTER_ORDER LEFT_RIGHT/TOP_BOTTOM *
BAND_ORGANIZATION BIP *
BAND_CONTENT RED *
BAND_CONTENT GREEN *
BAND_CONTENT BLUE *
BITS_PER_PIXEL 8 *
SAMPLES_AND_LINES 6660 7680 *
HORIZONTAL_DATUM NAD83 *
HORIZONTAL_COORDINATE_SYSTEM UTM *
COORDINATE_ZONE 11 *
HORIZONTAL_UNITS METERS *
HORIZONTAL_RESOLUTION 1.000 *
SECONDARY_HORIZONTAL_DATUM NAD27 *
XY_ORIGIN 707400.000 3764880.000 *
SECONDARY_XY_ORIGIN 707478.542 3764685.472 *
NATION US *
STATE CA *
NW_QUAD_CORNER_XY 707802.792 3764438.298 *
NE_QUAD_CORNER_XY 713576.259 3764566.910 *
SE_QUAD_CORNER_XY 713732.669 3757634.932 *
SW_QUAD_CORNER_XY 707954.968 3757506.435 *
SECONDARY_NW_QUAD_XY 707807.474 3764243.899 *
SECONDARY_NE_QUAD_XY 713581.071 3764372.514 *
SECONDARY_SE_QUAD_XY 713737.476 3757440.737 *
SECONDARY_SW_QUAD_XY 707959.645 3757312.236 *
RMSE_XY 1.162 *
IMAGE_SOURCE "CIR FILM" *
SOURCE_IMAGE_ID "NAPP 9572 148" *
SOURCE_IMAGE_DATE 1996 09 27 *
SOURCE_DEM_DATE 1997 01 01 *
AGENCY "WESTERN MAPPING CENTER (WMC)" *
PRODUCER "ANALYTICAL SURVEYS INC." *
PRODUCTION_SYSTEM "ORBIT OR_RECTIFY V.5.2" *
STANDARD_VERSION 1996 12 *
METADATA_DATE 1998 05 19 *
DATA_FILE_SIZE 153466380 *
BYTE_COUNT 19980 * * * * * * * * * * * * * * * * * * * * * * * * * * * * * * * * * * * * * * * * * * * * * * * * * * * * * * * * * * * * * * * * * * * * * * * * * * * * * * * * * * * * * * * * * * * * * * * * * * * * * * * * * * * * * * * * * * * * * * * * * * * * * * * * * * * * * * * * * * * * * * * * * * * * * * * * * * * * * * * * * * * * * * * * * * * * * * * * * * * * * * * * * * * * * * * * * * * * * * * * * * * * *
END_USGS_HEADER *
