BEGIN_USGS_DOQ_HEADER *
QUADRANGLE_NAME "STYX" *
QUADRANT SW *
NORTH_LATITUDE 33 56 15.000 *
WEST_LONGITUDE -114 52 30.000 *
SOUTH_LATITUDE 33 52 30.000 *
EAST_LONGITUDE -114 48 45.000 *
PRODUCTION_DATE 1998 01 29 *
RASTER_ORDER LEFT_RIGHT/TOP_BOTTOM *
BAND_ORGANIZATION BIP *
BAND_CONTENT RED *
BAND_CONTENT GREEN *
BAND_CONTENT BLUE *
BITS_PER_PIXEL 8 *
SAMPLES_AND_LINES 6630 7710 *
HORIZONTAL_DATUM NAD83 *
HORIZONTAL_COORDINATE_SYSTEM UTM *
COORDINATE_ZONE 11 *
HORIZONTAL_UNITS METERS *
HORIZONTAL_RESOLUTION 1.000 *
SECONDARY_HORIZONTAL_DATUM NAD27 *
XY_ORIGIN 696000.000 3757710.000 *
SECONDARY_XY_ORIGIN 696078.633 3757515.511 *
NATION US *
STATE CA *
NW_QUAD_CORNER_XY 696399.844 3757260.017 *
NE_QUAD_CORNER_XY 702177.361 3757381.463 *
SE_QUAD_CORNER_XY 702325.062 3750449.770 *
SW_QUAD_CORNER_XY 696543.319 3750328.432 *
SECONDARY_NW_QUAD_XY 696404.261 3757065.813 *
SECONDARY_NE_QUAD_XY 702181.907 3757187.262 *
SECONDARY_SE_QUAD_XY 702329.604 3750255.771 *
SECONDARY_SW_QUAD_XY 696547.732 3750134.430 *
RMSE_XY 1.308 *
IMAGE_SOURCE "CIR FILM" *
SOURCE_IMAGE_ID "NAPP 9562 129" *
SOURCE_IMAGE_DATE 1996 06 15 *
SOURCE_DEM_DATE 1977 01 01 *
AGENCY "WESTERN MAPPING CENTER (WMC)" *
PRODUCER "ANALYTICAL SURVEYS INC." *
PRODUCTION_SYSTEM "ORBIT OR_RECTIFY V.5.2" *
STANDARD_VERSION 1996 12 *
METADATA_DATE 1998 01 29 *
DATA_FILE_SIZE 153371790 *
BYTE_COUNT 19890 * * * * * * * * * * * * * * * * * * * * * * * * * * * * * * * * * * * * * * * * * * * * * * * * * * * * * * * * * * * * * * * * * * * * * * * * * * * * * * * * * * * * * * * * * * * * * * * * * * * * * * * * * * * * * * * * * * * * * * * * * * * * * * * * * * * * * * * * * * * * * * * * * * * * * * * * * * * * * * * * * * * * * * * * * * * * * * * * * * * * * * * * * * * * * * * * * * * * * * * * * * * *
END_USGS_HEADER *
