BEGIN_USGS_DOQ_HEADER *
QUADRANGLE_NAME "LITTLE MARIA MOUNTAINS" *
QUADRANT NE *
NORTH_LATITUDE 34 00 00.000 *
WEST_LONGITUDE -114 56 15.000 *
SOUTH_LATITUDE 33 56 15.000 *
EAST_LONGITUDE -114 52 30.000 *
PRODUCTION_DATE 1998 01 24 *
RASTER_ORDER LEFT_RIGHT/TOP_BOTTOM *
BAND_ORGANIZATION BIP *
BAND_CONTENT RED *
BAND_CONTENT GREEN *
BAND_CONTENT BLUE *
BITS_PER_PIXEL 8 *
SAMPLES_AND_LINES 6630 7680 *
HORIZONTAL_DATUM NAD83 *
HORIZONTAL_COORDINATE_SYSTEM UTM *
COORDINATE_ZONE 11 *
HORIZONTAL_UNITS METERS *
HORIZONTAL_RESOLUTION 1.000 *
SECONDARY_HORIZONTAL_DATUM NAD27 *
XY_ORIGIN 690090.000 3764520.000 *
SECONDARY_XY_ORIGIN 690168.709 3764325.438 *
NATION US *
STATE CA *
NW_QUAD_CORNER_XY 690482.940 3764073.637 *
NE_QUAD_CORNER_XY 696256.135 3764191.662 *
SE_QUAD_CORNER_XY 696399.844 3757260.017 *
SW_QUAD_CORNER_XY 690622.417 3757142.096 *
SECONDARY_NW_QUAD_XY 690487.231 3763879.230 *
SECONDARY_NE_QUAD_XY 696260.556 3763997.258 *
SECONDARY_SE_QUAD_XY 696404.261 3757065.813 *
SECONDARY_SW_QUAD_XY 690626.704 3756947.890 *
RMSE_XY 0.966 *
IMAGE_SOURCE "CIR FILM" *
SOURCE_IMAGE_ID "NAPP 9562 220" *
SOURCE_IMAGE_DATE 1996 06 15 *
SOURCE_DEM_DATE 1977 01 01 *
AGENCY "WESTERN MAPPING CENTER (WMC)" *
PRODUCER "ANALYTICAL SURVEYS INC." *
PRODUCTION_SYSTEM "ORBIT OR_RECTIFY V.5.2" *
STANDARD_VERSION 1996 12 *
METADATA_DATE 1998 01 24 *
DATA_FILE_SIZE 152775090 *
BYTE_COUNT 19890 * * * * * * * * * * * * * * * * * * * * * * * * * * * * * * * * * * * * * * * * * * * * * * * * * * * * * * * * * * * * * * * * * * * * * * * * * * * * * * * * * * * * * * * * * * * * * * * * * * * * * * * * * * * * * * * * * * * * * * * * * * * * * * * * * * * * * * * * * * * * * * * * * * * * * * * * * * * * * * * * * * * * * * * * * * * * * * * * * * * * * * * * * * * * * * * * * * * * * * * * * * * *
END_USGS_HEADER *
