BEGIN_USGS_DOQ_HEADER *
QUADRANGLE_NAME "MOON MOUNTAIN SE" 3.45 or 7.5-min. name*
QUADRANT SE quadrant indicator if cell size = 3.75-minutes*
WEST_LONGITUDE -114 18 45.000 signed deg min sec SDDD MM SS.SSS*
EAST_LONGITUDE -114 15 0.000 signed deg min sec SDDD MM SS.SSS*
NORTH_LATITUDE 33 48 45.000 signed deg min sec SDDD MM SS.SSS*
SOUTH_LATITUDE 33 45 0.000 signed deg min sec SDDD MM SS.SSS*
PRODUCTION_DATE 1996 6 6 yyyy mm dd*
RASTER_ORDER LEFT_RIGHT/TOP_BOTTOM video display order*
BAND_ORGANIZATION "SINGLE FILE" single file or BSQ, or BIL or BIP*
BAND_CONTENT BLACK&WHITE black&white or red green blue*
BITS_PER_PIXEL 8 radiometric resolution*
SAMPLES_AND_LINES 6648 7689 number of columns and rows*
HORIZONTAL_DATUM NAD83 primary horizontal datum*
HORIZONTAL_COORDINATE_SYSTEM UTM *
COORDINATE_ZONE 11 coordinate system zone number*
HORIZONTAL_UNITS METERS coordinate system units*
HORIZONTAL_RESOLUTION 1.00 pixel horiz. ground sample distance*
SECONDARY_HORIZONTAL_DATUM NAD27 secondary horizontal datum*
XY_ORIGIN 748390.000 3745069.000 coord. of upper left pixel pri. datum*
SECONDARY_XY_ORIGIN 748468.330 3744874.790 coord upper left pixel sec datum*
NATION US nation code*
STATE AZ state fip code*
NW_QUAD_CORNER_XY 748763.764 3744614.708 XY coords. of pri. NW quad corner*
NE_QUAD_CORNER_XY 754550.652 3744767.629 XY coords. of pri. NE quad corner*
SE_QUAD_CORNER_XY 754735.810 3737834.929 XY coords. of pri. SE quad corner*
SW_QUAD_CORNER_XY 748944.704 3737682.146 XY coords. of pri. SW quad corner*
SECONDARY_NW_QUAD_XY 748769.341 3744420.936 XY coords. - sec. NW quad cor.*
SECONDARY_NE_QUAD_XY 754556.359 3744573.861 XY coords. - sec. NE quad cor.*
SECONDARY_SE_QUAD_XY 754741.511 3737641.365 XY coords. - sec. SE quad cor.*
SECONDARY_SW_QUAD_XY 748950.275 3737488.578 XY coords. - sec. SW quad cor.*
RMSE_XY 1.30 doq horiz. accuracy*
IMAGE_SOURCE "BLACK AND WHITE FILM" b&w, cir, natural color, other*
SOURCE_IMAGE_ID "NAPP 5317 176" source image id*
SOURCE_IMAGE_DATE 1992 9 13 source image date as yyyy mm dd*
SOURCE_DEM_DATE 1996 6 6 source dem date yyyy mm dd*
AGENCY "WESTERN MAPPING CENTER (WMC)" oversight agency*
PRODUCER "WMC" producer/contractor*
PRODUCTION_SYSTEM "DV2.6.3 10/9OV2.4 5/95" production system*
STANDARD_VERSION 1996 12 version of DOQ standard*
METADATA_DATE 1997 7 1 date created or changed, yyyy mm dd*
DATA_FILE_SIZE 51123120 data set size in bytes*
BYTE_COUNT 6648 header byte count* * * * * * * * * * * * * * * * * * * * * * * * * * * * * * * * * * * * * * * * *
END_USGS_HEADER *
