BEGIN_USGS_DOQ_HEADER *
QUADRANGLE_NAME "EAST OF ACOLITA" *
QUADRANT SW *
NORTH_LATITUDE 33 03 45.000 *
WEST_LONGITUDE -115 07 30.000 *
SOUTH_LATITUDE 33 00 00.000 *
EAST_LONGITUDE -115 03 45.000 *
PRODUCTION_DATE 1998 04 08 *
RASTER_ORDER LEFT_RIGHT/TOP_BOTTOM *
BAND_ORGANIZATION BIP *
BAND_CONTENT RED *
BAND_CONTENT GREEN *
BAND_CONTENT BLUE *
BITS_PER_PIXEL 8 *
SAMPLES_AND_LINES 6690 7680 *
HORIZONTAL_DATUM NAD83 *
HORIZONTAL_COORDINATE_SYSTEM UTM *
COORDINATE_ZONE 11 *
HORIZONTAL_UNITS METERS *
HORIZONTAL_RESOLUTION 1.000 *
SECONDARY_HORIZONTAL_DATUM NAD27 *
XY_ORIGIN 674640.000 3660210.000 *
SECONDARY_XY_ORIGIN 674719.228 3660015.599 *
NATION US *
STATE CA *
NW_QUAD_CORNER_XY 675043.837 3659778.619 *
NE_QUAD_CORNER_XY 680879.524 3659884.581 *
SE_QUAD_CORNER_XY 681007.320 3652954.170 *
SW_QUAD_CORNER_XY 675167.506 3652848.311 *
SECONDARY_NW_QUAD_XY 675047.681 3659587.304 *
SECONDARY_NE_QUAD_XY 680883.497 3659693.268 *
SECONDARY_SE_QUAD_XY 681011.289 3652763.070 *
SECONDARY_SW_QUAD_XY 675171.346 3652657.209 *
RMSE_XY 1.347 *
IMAGE_SOURCE "CIR FILM" *
SOURCE_IMAGE_ID "NAPP 9563 137" *
SOURCE_IMAGE_DATE 1996 06 15 *
SOURCE_DEM_DATE 1997 01 01 *
AGENCY "WESTERN MAPPING CENTER (WMC)" *
PRODUCER "ANALYTICAL SURVEYS INC." *
PRODUCTION_SYSTEM "ORBIT OR_RECTIFY V.5.2" *
STANDARD_VERSION 1996 12 *
METADATA_DATE 1998 04 09 *
DATA_FILE_SIZE 154157670 *
BYTE_COUNT 20070 * * * * * * * * * * * * * * * * * * * * * * * * * * * * * * * * * * * * * * * * * * * * * * * * * * * * * * * * * * * * * * * * * * * * * * * * * * * * * * * * * * * * * * * * * * * * * * * * * * * * * * * * * * * * * * * * * * * * * * * * * * * * * * * * * * * * * * * * * * * * * * * * * * * * * * * * * * * * * * * * * * * * * * * * * * * * * * * * * * * * * * * * * * * * * * * * * * * * * * * * * * * * * *
END_USGS_HEADER *
