BEGIN_USGS_DOQ_HEADER *
QUADRANGLE_NAME "WESTMORLAND WEST" *
QUADRANT NE *
NORTH_LATITUDE 33 07 30.000 *
WEST_LONGITUDE -115 41 15.000 *
SOUTH_LATITUDE 33 03 45.000 *
EAST_LONGITUDE -115 37 30.000 *
PRODUCTION_DATE 1998 03 31 *
RASTER_ORDER LEFT_RIGHT/TOP_BOTTOM *
BAND_ORGANIZATION BIP *
BAND_CONTENT RED *
BAND_CONTENT GREEN *
BAND_CONTENT BLUE *
BITS_PER_PIXEL 8 *
SAMPLES_AND_LINES 6630 7620 *
HORIZONTAL_DATUM NAD83 *
HORIZONTAL_COORDINATE_SYSTEM UTM *
COORDINATE_ZONE 11 *
HORIZONTAL_UNITS METERS *
HORIZONTAL_RESOLUTION 1.000 *
SECONDARY_HORIZONTAL_DATUM NAD27 *
XY_ORIGIN 622050.000 3666300.000 *
SECONDARY_XY_ORIGIN 622129.987 3666104.643 *
NATION US *
STATE CA *
NW_QUAD_CORNER_XY 622439.447 3665911.035 *
NE_QUAD_CORNER_XY 628270.341 3665985.779 *
SE_QUAD_CORNER_XY 628361.160 3659056.107 *
SW_QUAD_CORNER_XY 622526.136 3658981.435 *
SECONDARY_NW_QUAD_XY 622442.140 3665719.490 *
SECONDARY_NE_QUAD_XY 628273.162 3665794.235 *
SECONDARY_SE_QUAD_XY 628363.979 3658864.775 *
SECONDARY_SW_QUAD_XY 622528.826 3658790.102 *
RMSE_XY 0.833 *
IMAGE_SOURCE "CIR FILM" *
SOURCE_IMAGE_ID "NAPP 9565 47" *
SOURCE_IMAGE_DATE 1996 06 16 *
SOURCE_DEM_DATE 1956 01 01 *
AGENCY "WESTERN MAPPING CENTER (WMC)" *
PRODUCER "ANALYTICAL SURVEYS INC." *
PRODUCTION_SYSTEM "ORBIT OR_RECTIFY V.5.2" *
STANDARD_VERSION 1996 12 *
METADATA_DATE 1998 03 31 *
DATA_FILE_SIZE 151581690 *
BYTE_COUNT 19890 * * * * * * * * * * * * * * * * * * * * * * * * * * * * * * * * * * * * * * * * * * * * * * * * * * * * * * * * * * * * * * * * * * * * * * * * * * * * * * * * * * * * * * * * * * * * * * * * * * * * * * * * * * * * * * * * * * * * * * * * * * * * * * * * * * * * * * * * * * * * * * * * * * * * * * * * * * * * * * * * * * * * * * * * * * * * * * * * * * * * * * * * * * * * * * * * * * * * * * * * * * * *
END_USGS_HEADER *
