BEGIN_USGS_DOQ_HEADER *
QUADRANGLE_NAME "KANE SPRING" *
QUADRANT NW *
NORTH_LATITUDE 33 07 30.000 *
WEST_LONGITUDE -115 52 30.000 *
SOUTH_LATITUDE 33 03 45.000 *
EAST_LONGITUDE -115 48 45.000 *
PRODUCTION_DATE 1998 03 11 *
RASTER_ORDER LEFT_RIGHT/TOP_BOTTOM *
BAND_ORGANIZATION BIP *
BAND_CONTENT RED *
BAND_CONTENT GREEN *
BAND_CONTENT BLUE *
BITS_PER_PIXEL 8 *
SAMPLES_AND_LINES 6600 7620 *
HORIZONTAL_DATUM NAD83 *
HORIZONTAL_COORDINATE_SYSTEM UTM *
COORDINATE_ZONE 11 *
HORIZONTAL_UNITS METERS *
HORIZONTAL_RESOLUTION 1.000 *
SECONDARY_HORIZONTAL_DATUM NAD27 *
XY_ORIGIN 604560.000 3666090.000 *
SECONDARY_XY_ORIGIN 604640.202 3665894.190 *
NATION US *
STATE CA *
NW_QUAD_CORNER_XY 604947.109 3665707.673 *
NE_QUAD_CORNER_XY 610777.834 3665771.982 *
SE_QUAD_CORNER_XY 610856.262 3658842.516 *
SW_QUAD_CORNER_XY 605021.408 3658778.269 *
SECONDARY_NW_QUAD_XY 604949.417 3665516.123 *
SECONDARY_NE_QUAD_XY 610780.270 3665580.434 *
SECONDARY_SE_QUAD_XY 610858.697 3658651.180 *
SECONDARY_SW_QUAD_XY 605023.714 3658586.931 *
RMSE_XY 0.738 *
IMAGE_SOURCE "CIR FILM" *
SOURCE_IMAGE_ID "NAPP 9565 154" *
SOURCE_IMAGE_DATE 1996 06 16 *
SOURCE_DEM_DATE 1956 01 01 *
AGENCY "WESTERN MAPPING CENTER (WMC)" *
PRODUCER "ANALYTICAL SURVEYS INC." *
PRODUCTION_SYSTEM "ORBIT OR_RECTIFY V.5.2" *
STANDARD_VERSION 1996 12 *
METADATA_DATE 1998 03 11 *
DATA_FILE_SIZE 150895800 *
BYTE_COUNT 19800 * * * * * * * * * * * * * * * * * * * * * * * * * * * * * * * * * * * * * * * * * * * * * * * * * * * * * * * * * * * * * * * * * * * * * * * * * * * * * * * * * * * * * * * * * * * * * * * * * * * * * * * * * * * * * * * * * * * * * * * * * * * * * * * * * * * * * * * * * * * * * * * * * * * * * * * * * * * * * * * * * * * * * * * * * * * * * * * * * * * * * * * * * * * * * * * * * * * * * * * * * * *
END_USGS_HEADER *
